BEGIN:VCALENDAR
VERSION:2.0
PRODID:-//City of Proctor, MN - ECPv6.10.1.1//NONSGML v1.0//EN
CALSCALE:GREGORIAN
METHOD:PUBLISH
X-ORIGINAL-URL:https://proctormn.gov
X-WR-CALDESC:Events for City of Proctor, MN
REFRESH-INTERVAL;VALUE=DURATION:PT1H
X-Robots-Tag:noindex
X-PUBLISHED-TTL:PT1H
BEGIN:VTIMEZONE
TZID:America/Chicago
BEGIN:DAYLIGHT
TZOFFSETFROM:-0600
TZOFFSETTO:-0500
TZNAME:CDT
DTSTART:20260308T080000
END:DAYLIGHT
BEGIN:STANDARD
TZOFFSETFROM:-0500
TZOFFSETTO:-0600
TZNAME:CST
DTSTART:20261101T070000
END:STANDARD
END:VTIMEZONE
BEGIN:VEVENT
DTSTART;TZID=America/Chicago:20260302T170000
DTEND;TZID=America/Chicago:20260302T180000
DTSTAMP:20260419T113141
CREATED:20260115T210939Z
LAST-MODIFIED:20260115T210939Z
UID:10209-1772470800-1772474400@proctormn.gov
SUMMARY:City Council Pre-Agenda Meeting
DESCRIPTION:The 5:00 p.m. pre-agenda meeting is a work session between the City Council and City staff to review the upcoming City Council meeting agenda\, future meeting agendas\, and is a time for the City Council and City staff to have discussions about the agenda items and asking and answering questions. The agenda for the pre-agenda meeting is the same document as the upcoming City Council meeting agenda but does not follow the same format as the City Council meeting. Although pre-agenda meetings are open to the public\, it is not a time for public comment\, as the public can listen to the conversation and ask questions or provide input at the upcoming City Council meeting. Visitors should park in the North parking lot and enter Door 6.
URL:https://proctormn.gov/event/city-council-pre-agenda-meeting-21/
LOCATION:Proctor Area Community Center/City Hall\, 100 Pionk Drive\, Proctor\, 55810\, United States
CATEGORIES:Government,Meeting
END:VEVENT
BEGIN:VEVENT
DTSTART;TZID=America/Chicago:20260302T180000
DTEND;TZID=America/Chicago:20260302T180000
DTSTAMP:20260419T113141
CREATED:20260115T210840Z
LAST-MODIFIED:20260224T224311Z
UID:10207-1772474400-1772474400@proctormn.gov
SUMMARY:City Council Meeting
DESCRIPTION:In-Person Access\nThe 6:00 p.m. City Council Meetings are open to the public and held in council chambers at the Proctor Area Community Center (PACC) 100 Pionk Drive Proctor\, MN. Visitors should park in the North parking lot and enter Door 6. \nRemote Access\nThe 6:00 p.m. City Council Meeting is available remotely via YouTube https://www.youtube.com/@trac7298/streams. To comment during the public comment period of the meeting call 218-628-6268. Your call will be answered in the order it was received.  Your comments will be broadcast in the council chambers and on YouTube. \nPublic comments may also be submitted in advance of the meeting to cityhall@proctormn.gov up to 3:00 p.m. the day of the meeting with the e-mail title “City Council Meeting.”  All comments are public data \nPublic comments may also be submitted in advance of the meeting via e-mail cityhall@proctormn.gov up to 3:00 p.m. the day of the meeting with the e-mail title “City Council Meeting.”  It is important to note that all comments regarding this meeting are public data.
URL:https://proctormn.gov/event/city-council-meeting-2/
LOCATION:Proctor Area Community Center/City Hall\, 100 Pionk Drive\, Proctor\, 55810\, United States
CATEGORIES:Government,Meeting
END:VEVENT
BEGIN:VEVENT
DTSTART;TZID=America/Chicago:20260309T180000
DTEND;TZID=America/Chicago:20260309T180000
DTSTAMP:20260419T113141
CREATED:20260210T192628Z
LAST-MODIFIED:20260312T165456Z
UID:10259-1773079200-1773079200@proctormn.gov
SUMMARY:Proctor Utility Commission Meeting - Cancelled and Postponed to 3/19/26 5:00 PM
DESCRIPTION:
URL:https://proctormn.gov/event/proctor-utility-commission-meeting/
LOCATION:Proctor Area Community Center/City Hall\, 100 Pionk Drive\, Proctor\, 55810\, United States
END:VEVENT
BEGIN:VEVENT
DTSTART;TZID=America/Chicago:20260309T180000
DTEND;TZID=America/Chicago:20260309T180000
DTSTAMP:20260419T113141
CREATED:20260302T163332Z
LAST-MODIFIED:20260302T163332Z
UID:10307-1773079200-1773079200@proctormn.gov
SUMMARY:Proctor Utility Commission Meeting
DESCRIPTION:
URL:https://proctormn.gov/event/proctor-utility-commission-meeting-7/
LOCATION:Proctor Area Community Center/City Hall\, 100 Pionk Drive\, Proctor\, 55810\, United States
CATEGORIES:Meeting
END:VEVENT
BEGIN:VEVENT
DTSTART;TZID=America/Chicago:20260310T170000
DTEND;TZID=America/Chicago:20260310T180000
DTSTAMP:20260419T113141
CREATED:20260310T132053Z
LAST-MODIFIED:20260310T132053Z
UID:10319-1773162000-1773165600@proctormn.gov
SUMMARY:Proctor EDA - Special Meeting
DESCRIPTION:Purpose: Conducting Commission interviews
URL:https://proctormn.gov/event/proctor-eda-special-meeting/
LOCATION:Proctor Area Community Center/City Hall\, 100 Pionk Drive\, Proctor\, 55810\, United States
END:VEVENT
BEGIN:VEVENT
DTSTART;TZID=America/Chicago:20260310T180000
DTEND;TZID=America/Chicago:20260310T180000
DTSTAMP:20260419T113141
CREATED:20260112T235141Z
LAST-MODIFIED:20260310T204549Z
UID:10185-1773165600-1773165600@proctormn.gov
SUMMARY:Proctor EDA Regular Meeting
DESCRIPTION:
URL:https://proctormn.gov/event/proctor-eda-4/
LOCATION:Proctor Area Community Center/City Hall\, 100 Pionk Drive\, Proctor\, 55810\, United States
END:VEVENT
BEGIN:VEVENT
DTSTART;TZID=America/Chicago:20260316T163000
DTEND;TZID=America/Chicago:20260316T170000
DTSTAMP:20260419T113141
CREATED:20260211T192806Z
LAST-MODIFIED:20260312T163842Z
UID:10268-1773678600-1773680400@proctormn.gov
SUMMARY:Proctor Police Commission and Proctor City Council Joint Annual Meeting
DESCRIPTION:Date: Monday\, March 16\, 2026\nTime: 4:30 p.m.\nPlace: PACC 100 PIONK DRIVE\nThe Proctor Civil Service Commission will present information on\nthe following:\n• Update on staff changes\n• Update on posting officer position\n• 2025 Annual Report\nDiane Giuliani\nPolice Civil Service Commission Chair
URL:https://proctormn.gov/event/proctor-police-commission-and-proctor-city-council-joint-annual-meeting/
LOCATION:Proctor Area Community Center/City Hall\, 100 Pionk Drive\, Proctor\, 55810\, United States
END:VEVENT
BEGIN:VEVENT
DTSTART;TZID=America/Chicago:20260316T170000
DTEND;TZID=America/Chicago:20260316T180000
DTSTAMP:20260419T113141
CREATED:20260115T211020Z
LAST-MODIFIED:20260115T211020Z
UID:10211-1773680400-1773684000@proctormn.gov
SUMMARY:City Council Pre-Agenda Meeting
DESCRIPTION:The 5:00 p.m. pre-agenda meeting is a work session between the City Council and City staff to review the upcoming City Council meeting agenda\, future meeting agendas\, and is a time for the City Council and City staff to have discussions about the agenda items and asking and answering questions. The agenda for the pre-agenda meeting is the same document as the upcoming City Council meeting agenda but does not follow the same format as the City Council meeting. Although pre-agenda meetings are open to the public\, it is not a time for public comment\, as the public can listen to the conversation and ask questions or provide input at the upcoming City Council meeting. Visitors should park in the North parking lot and enter Door 6.
URL:https://proctormn.gov/event/city-council-pre-agenda-meeting-22/
LOCATION:Proctor Area Community Center/City Hall\, 100 Pionk Drive\, Proctor\, 55810\, United States
CATEGORIES:Government,Meeting
END:VEVENT
BEGIN:VEVENT
DTSTART;TZID=America/Chicago:20260316T180000
DTEND;TZID=America/Chicago:20260316T180000
DTSTAMP:20260419T113141
CREATED:20260115T211233Z
LAST-MODIFIED:20260302T160019Z
UID:10217-1773684000-1773684000@proctormn.gov
SUMMARY:City Council Meeting
DESCRIPTION:In-Person Access\nThe 6:00 p.m. City Council Meetings are open to the public and held in council chambers at the Proctor Area Community Center (PACC) 100 Pionk Drive Proctor\, MN. Visitors should park in the North parking lot and enter Door 6. \nRemote Access\nThe 6:00 p.m. City Council Meeting is available remotely via YouTube https://www.youtube.com/@trac7298/streams. To comment during the public comment period of the meeting call 218-628-6268. Your call will be answered in the order it was received.  Your comments will be broadcast in the council chambers and on YouTube. \nPublic comments may also be submitted in advance of the meeting to cityhall@proctormn.gov up to 3:00 p.m. the day of the meeting with the e-mail title “City Council Meeting.”  All comments are public data \nPublic comments may also be submitted in advance of the meeting via e-mail cityhall@proctormn.gov up to 3:00 p.m. the day of the meeting with the e-mail title “City Council Meeting.”  It is important to note that all comments regarding this meeting are public data.
URL:https://proctormn.gov/event/city-council-meeting-3/
LOCATION:Proctor Area Community Center/City Hall\, 100 Pionk Drive\, Proctor\, 55810\, United States
CATEGORIES:Government,Meeting
END:VEVENT
BEGIN:VEVENT
DTSTART;TZID=America/Chicago:20260319T170000
DTEND;TZID=America/Chicago:20260319T170000
DTSTAMP:20260419T113141
CREATED:20260312T165013Z
LAST-MODIFIED:20260312T165339Z
UID:10397-1773939600-1773939600@proctormn.gov
SUMMARY:Proctor Utility Commission Rescheduled Regular Meeting 5:00 PM
DESCRIPTION:This meeting is the rescheduling of the Monday\, March 9th regular meeting cancellation. Meeting will be held in the conference room.
URL:https://proctormn.gov/event/proctor-utility-commission-rescheduled-regular-meeting-500-pm/
LOCATION:Proctor Area Community Center/City Hall\, 100 Pionk Drive\, Proctor\, 55810\, United States
CATEGORIES:Meeting
END:VEVENT
BEGIN:VEVENT
DTSTART;TZID=America/Chicago:20260323T170000
DTEND;TZID=America/Chicago:20260323T170000
DTSTAMP:20260419T113141
CREATED:20260227T212437Z
LAST-MODIFIED:20260227T212437Z
UID:10282-1774285200-1774285200@proctormn.gov
SUMMARY:Planning & Zoning Commission Meeting
DESCRIPTION:
URL:https://proctormn.gov/event/planning-zoning-commission-meeting-4/
LOCATION:Proctor Area Community Center/City Hall\, 100 Pionk Drive\, Proctor\, 55810\, United States
CATEGORIES:Meeting
END:VEVENT
END:VCALENDAR