BEGIN:VCALENDAR
VERSION:2.0
PRODID:-//City of Proctor, MN - ECPv6.10.1.1//NONSGML v1.0//EN
CALSCALE:GREGORIAN
METHOD:PUBLISH
X-WR-CALNAME:City of Proctor, MN
X-ORIGINAL-URL:https://proctormn.gov
X-WR-CALDESC:Events for City of Proctor, MN
REFRESH-INTERVAL;VALUE=DURATION:PT1H
X-Robots-Tag:noindex
X-PUBLISHED-TTL:PT1H
BEGIN:VTIMEZONE
TZID:America/Chicago
BEGIN:DAYLIGHT
TZOFFSETFROM:-0600
TZOFFSETTO:-0500
TZNAME:CDT
DTSTART:20260308T080000
END:DAYLIGHT
BEGIN:STANDARD
TZOFFSETFROM:-0500
TZOFFSETTO:-0600
TZNAME:CST
DTSTART:20261101T070000
END:STANDARD
END:VTIMEZONE
BEGIN:VEVENT
DTSTART;VALUE=DATE:20260101
DTEND;VALUE=DATE:20260102
DTSTAMP:20260419T112903
CREATED:20251218T195637Z
LAST-MODIFIED:20251218T201040Z
UID:10117-1767225600-1767311999@proctormn.gov
SUMMARY:Offices Closed - Holiday
DESCRIPTION:
URL:https://proctormn.gov/event/offices-closed-holiday/
END:VEVENT
BEGIN:VEVENT
DTSTART;TZID=America/Chicago:20260105T170000
DTEND;TZID=America/Chicago:20260105T180000
DTSTAMP:20260419T112903
CREATED:20251218T200840Z
LAST-MODIFIED:20251218T200840Z
UID:10144-1767632400-1767636000@proctormn.gov
SUMMARY:City Council Pre-Agenda Meeting
DESCRIPTION:The 5:00 p.m. pre-agenda meeting is a work session between the City Council and City staff to review the upcoming City Council meeting agenda\, future meeting agendas\, and is a time for the City Council and City staff to have discussions about the agenda items and asking and answering questions. The agenda for the pre-agenda meeting is the same document as the upcoming City Council meeting agenda but does not follow the same format as the City Council meeting. Although pre-agenda meetings are open to the public\, it is not a time for public comment\, as the public can listen to the conversation and ask questions or provide input at the upcoming City Council meeting. Visitors should park in the North parking lot and enter Door 6.
URL:https://proctormn.gov/event/city-council-pre-agenda-meeting-26/
LOCATION:Proctor Area Community Center/City Hall\, 100 Pionk Drive\, Proctor\, 55810\, United States
CATEGORIES:Government,Meeting
END:VEVENT
BEGIN:VEVENT
DTSTART;VALUE=DATE:20260119
DTEND;VALUE=DATE:20260120
DTSTAMP:20260419T112903
CREATED:20251218T201112Z
LAST-MODIFIED:20251218T201332Z
UID:10146-1768780800-1768867199@proctormn.gov
SUMMARY:Offices Closed - Martin Luther King Jr. Day
DESCRIPTION:
URL:https://proctormn.gov/event/offices-closed-martin-luther-king-jr-day/
END:VEVENT
BEGIN:VEVENT
DTSTART;TZID=America/Chicago:20260120T170000
DTEND;TZID=America/Chicago:20260120T180000
DTSTAMP:20260419T112903
CREATED:20251218T200818Z
LAST-MODIFIED:20251218T200818Z
UID:10142-1768928400-1768932000@proctormn.gov
SUMMARY:City Council Pre-Agenda Meeting
DESCRIPTION:The 5:00 p.m. pre-agenda meeting is a work session between the City Council and City staff to review the upcoming City Council meeting agenda\, future meeting agendas\, and is a time for the City Council and City staff to have discussions about the agenda items and asking and answering questions. The agenda for the pre-agenda meeting is the same document as the upcoming City Council meeting agenda but does not follow the same format as the City Council meeting. Although pre-agenda meetings are open to the public\, it is not a time for public comment\, as the public can listen to the conversation and ask questions or provide input at the upcoming City Council meeting. Visitors should park in the North parking lot and enter Door 6.
URL:https://proctormn.gov/event/city-council-pre-agenda-meeting-25/
LOCATION:Proctor Area Community Center/City Hall\, 100 Pionk Drive\, Proctor\, 55810\, United States
CATEGORIES:Government,Meeting
END:VEVENT
BEGIN:VEVENT
DTSTART;TZID=America/Chicago:20260120T180000
DTEND;TZID=America/Chicago:20260120T180000
DTSTAMP:20260419T112903
CREATED:20251218T154123Z
LAST-MODIFIED:20251218T195133Z
UID:10100-1768932000-1768932000@proctormn.gov
SUMMARY:PUBLIC HEARING - City Approval of Final Layout for SP 6908-72
DESCRIPTION:NOTICE IS HEREBY GIVEN the City Council of the City of Proctor\, Minnesota will conduct a public hearing on Tuesday January 20\, 2026\, at 6:00 p.m.\, or as soon as possible thereafter\, in the Council Chambers at the Proctor Area Community Center (PACC)l\, 100 Pionk Drive Proctor\, MN. The public hearing will be held pursuant to Minnesota Statutes\, Section 161.164. The City of Proctor has received the final layout for State Project 6908-72\, Highway 2 – Proctor\, Pavement & Sidewalk Project\, from 0.24 miles West of CSAH 13 (Midway Road) to .014 miles east of CSAH 14 (Boundary Avenue) to be constructed in 2027 (the “Project”). A public hearing is necessary before the City approves a Resolution for Approval for the Project. One or more representatives from MnDOT will be present at the public hearing to present the final layout for the Project.  Any person wishing to express an opinion on the Project will be heard either orally or in writing at the public hearing. Written comments may also be provided prior to the hearing and should be addressed to: City Administrator\, City of Proctor\, 100 Pionk Drive\, Proctor\, MN\, 55810\, jrich@proctormn.gov. \nDated December 18\, 2025 \n 
URL:https://proctormn.gov/event/public-hearing/
LOCATION:Proctor Area Community Center/City Hall\, 100 Pionk Drive\, Proctor\, 55810\, United States
END:VEVENT
END:VCALENDAR