BEGIN:VCALENDAR
VERSION:2.0
PRODID:-//City of Proctor, MN - ECPv6.10.1.1//NONSGML v1.0//EN
CALSCALE:GREGORIAN
METHOD:PUBLISH
X-WR-CALNAME:City of Proctor, MN
X-ORIGINAL-URL:https://proctormn.gov
X-WR-CALDESC:Events for City of Proctor, MN
REFRESH-INTERVAL;VALUE=DURATION:PT1H
X-Robots-Tag:noindex
X-PUBLISHED-TTL:PT1H
BEGIN:VTIMEZONE
TZID:America/Chicago
BEGIN:DAYLIGHT
TZOFFSETFROM:-0600
TZOFFSETTO:-0500
TZNAME:CDT
DTSTART:20270314T080000
END:DAYLIGHT
BEGIN:STANDARD
TZOFFSETFROM:-0500
TZOFFSETTO:-0600
TZNAME:CST
DTSTART:20271107T070000
END:STANDARD
END:VTIMEZONE
BEGIN:VEVENT
DTSTART;VALUE=DATE:20270109
DTEND;VALUE=DATE:20270110
DTSTAMP:20260422T172619
CREATED:20260310T210119Z
LAST-MODIFIED:20260310T210119Z
UID:10341-1799452800-1799539199@proctormn.gov
SUMMARY:National Law Enforcement Appreciation Day
DESCRIPTION:January 9th is National Law Enforcement Appreciation Day\, and we want to say THANK YOU.Thank you to the officers and staff who show up every day with integrity\, compassion\, and a commitment to serve. We’re grateful for all that you do
URL:https://proctormn.gov/event/national-law-enforcement-appreciation-day/
END:VEVENT
END:VCALENDAR