BEGIN:VCALENDAR
VERSION:2.0
PRODID:-//City of Proctor, MN - ECPv6.10.1.1//NONSGML v1.0//EN
CALSCALE:GREGORIAN
METHOD:PUBLISH
X-WR-CALNAME:City of Proctor, MN
X-ORIGINAL-URL:https://proctormn.gov
X-WR-CALDESC:Events for City of Proctor, MN
REFRESH-INTERVAL;VALUE=DURATION:PT1H
X-Robots-Tag:noindex
X-PUBLISHED-TTL:PT1H
BEGIN:VTIMEZONE
TZID:America/Chicago
BEGIN:DAYLIGHT
TZOFFSETFROM:-0600
TZOFFSETTO:-0500
TZNAME:CDT
DTSTART:20250309T080000
END:DAYLIGHT
BEGIN:STANDARD
TZOFFSETFROM:-0500
TZOFFSETTO:-0600
TZNAME:CST
DTSTART:20251102T070000
END:STANDARD
END:VTIMEZONE
BEGIN:VEVENT
DTSTART;TZID=America/Chicago:20250901T080000
DTEND;TZID=America/Chicago:20250901T163000
DTSTAMP:20260419T221357
CREATED:20230110T215006Z
LAST-MODIFIED:20250328T211924Z
UID:7716-1756713600-1756744200@proctormn.gov
SUMMARY:Labor Day - Offices Closed
DESCRIPTION:
URL:https://proctormn.gov/event/labor-day-offices-closed-2/
CATEGORIES:Resident,Visitor
END:VEVENT
BEGIN:VEVENT
DTSTART;TZID=America/Chicago:20250825T170000
DTEND;TZID=America/Chicago:20250825T170000
DTSTAMP:20260419T221357
CREATED:20240102T205307Z
LAST-MODIFIED:20250328T212001Z
UID:8581-1756141200-1756141200@proctormn.gov
SUMMARY:Planning & Zoning Commission
DESCRIPTION:
URL:https://proctormn.gov/event/p-z-meeting-6/
LOCATION:Proctor Area Community Center/City Hall\, 100 Pionk Drive\, Proctor\, 55810\, United States
CATEGORIES:Government,Meeting
END:VEVENT
BEGIN:VEVENT
DTSTART;TZID=America/Chicago:20250818T180000
DTEND;TZID=America/Chicago:20250818T180000
DTSTAMP:20260419T221357
CREATED:20240102T205416Z
LAST-MODIFIED:20250328T202744Z
UID:8585-1755540000-1755540000@proctormn.gov
SUMMARY:City Council
DESCRIPTION:In-Person Access\nThe 6:00 p.m. City Council Meetings are open to the public and held in council chambers at the Proctor Area Community Center (PACC) 100 Pionk Drive Proctor\, MN. Visitors should park in the North parking lot and enter Door 6. \nRemote Access\nThe 6:00 p.m. City Council Meeting is available remotely via YouTube https://www.youtube.com/@trac7298/streams. To comment during the public comment period of the meeting call 218-628-6268. Your call will be answered in the order it was received.  Your comments will be broadcast in the council chambers and on YouTube. \nPublic comments may also be submitted in advance of the meeting to cityhall@proctormn.gov up to 3:00 p.m. the day of the meeting with the e-mail title “City Council Meeting.”  All comments are public data
URL:https://proctormn.gov/event/council-meeting-4/
CATEGORIES:Government,Meeting
END:VEVENT
BEGIN:VEVENT
DTSTART;TZID=America/Chicago:20250818T170000
DTEND;TZID=America/Chicago:20250818T180000
DTSTAMP:20260419T221357
CREATED:20250328T201522Z
LAST-MODIFIED:20250328T202744Z
UID:9856-1755536400-1755540000@proctormn.gov
SUMMARY:City Council Pre-Agenda Meeting
DESCRIPTION:The 5:00 p.m. pre-agenda meeting is a work session between the City Council and City staff to review the upcoming City Council meeting agenda\, future meeting agendas\, and is a time for the City Council and City staff to have discussions about the agenda items and asking and answering questions. The agenda for the pre-agenda meeting is the same document as the upcoming City Council meeting agenda but does not follow the same format as the City Council meeting. Although pre-agenda meetings are open to the public\, it is not a time for public comment\, as the public can listen to the conversation and ask questions or provide input at the upcoming City Council meeting. Visitors should park in the North parking lot and enter Door 6.
URL:https://proctormn.gov/event/city-council-pre-agenda-meeting-13/
LOCATION:Proctor Area Community Center/City Hall\, 100 Pionk Drive\, Proctor\, 55810\, United States
CATEGORIES:Government,Meeting
END:VEVENT
BEGIN:VEVENT
DTSTART;TZID=America/Chicago:20250812T170000
DTEND;TZID=America/Chicago:20250812T170000
DTSTAMP:20260419T221357
CREATED:20240102T205531Z
LAST-MODIFIED:20250328T212042Z
UID:8589-1755018000-1755018000@proctormn.gov
SUMMARY:Proctor Economic Development Authority
DESCRIPTION:
URL:https://proctormn.gov/event/peda-meeting-18/
LOCATION:Proctor Area Community Center/City Hall\, 100 Pionk Drive\, Proctor\, 55810\, United States
CATEGORIES:Government,Meeting
END:VEVENT
BEGIN:VEVENT
DTSTART;TZID=America/Chicago:20250811T180000
DTEND;TZID=America/Chicago:20250811T180000
DTSTAMP:20260419T221357
CREATED:20240102T205448Z
LAST-MODIFIED:20250328T212115Z
UID:8587-1754935200-1754935200@proctormn.gov
SUMMARY:Proctor Utility Commission
DESCRIPTION:
URL:https://proctormn.gov/event/puc-meeting-18/
LOCATION:Proctor Area Community Center/City Hall\, 100 Pionk Drive\, Proctor\, 55810\, United States
CATEGORIES:Government,Meeting
END:VEVENT
BEGIN:VEVENT
DTSTART;TZID=America/Chicago:20250804T180000
DTEND;TZID=America/Chicago:20250804T180000
DTSTAMP:20260419T221357
CREATED:20240102T205339Z
LAST-MODIFIED:20250328T202744Z
UID:8583-1754330400-1754330400@proctormn.gov
SUMMARY:City Council
DESCRIPTION:In-Person Access\nThe 6:00 p.m. City Council Meetings are open to the public and held in council chambers at the Proctor Area Community Center (PACC) 100 Pionk Drive Proctor\, MN. Visitors should park in the North parking lot and enter Door 6. \nRemote Access\nThe 6:00 p.m. City Council Meeting is available remotely via YouTube https://www.youtube.com/@trac7298/streams. To comment during the public comment period of the meeting call 218-628-6268. Your call will be answered in the order it was received.  Your comments will be broadcast in the council chambers and on YouTube. \nPublic comments may also be submitted in advance of the meeting to cityhall@proctormn.gov up to 3:00 p.m. the day of the meeting with the e-mail title “City Council Meeting.”  All comments are public data
URL:https://proctormn.gov/event/council-meeting-3/
CATEGORIES:Government,Meeting
END:VEVENT
BEGIN:VEVENT
DTSTART;TZID=America/Chicago:20250804T170000
DTEND;TZID=America/Chicago:20250804T180000
DTSTAMP:20260419T221357
CREATED:20250328T201415Z
LAST-MODIFIED:20250328T202744Z
UID:9854-1754326800-1754330400@proctormn.gov
SUMMARY:City Council Pre-Agenda Meeting
DESCRIPTION:The 5:00 p.m. pre-agenda meeting is a work session between the City Council and City staff to review the upcoming City Council meeting agenda\, future meeting agendas\, and is a time for the City Council and City staff to have discussions about the agenda items and asking and answering questions. The agenda for the pre-agenda meeting is the same document as the upcoming City Council meeting agenda but does not follow the same format as the City Council meeting. Although pre-agenda meetings are open to the public\, it is not a time for public comment\, as the public can listen to the conversation and ask questions or provide input at the upcoming City Council meeting. Visitors should park in the North parking lot and enter Door 6.
URL:https://proctormn.gov/event/city-council-pre-agenda-meeting-12/
LOCATION:Proctor Area Community Center/City Hall\, 100 Pionk Drive\, Proctor\, 55810\, United States
CATEGORIES:Government,Meeting
END:VEVENT
BEGIN:VEVENT
DTSTART;TZID=America/Chicago:20250728T170000
DTEND;TZID=America/Chicago:20250728T170000
DTSTAMP:20260419T221357
CREATED:20240102T204935Z
LAST-MODIFIED:20250328T212155Z
UID:8569-1753722000-1753722000@proctormn.gov
SUMMARY:Planning & Zoning Commission
DESCRIPTION:
URL:https://proctormn.gov/event/p-z-meeting-5/
LOCATION:Proctor Area Community Center/City Hall\, 100 Pionk Drive\, Proctor\, 55810\, United States
CATEGORIES:Government,Meeting
END:VEVENT
BEGIN:VEVENT
DTSTART;TZID=America/Chicago:20250728T150000
DTEND;TZID=America/Chicago:20250728T163000
DTSTAMP:20260419T221357
CREATED:20241127T222926Z
LAST-MODIFIED:20250328T202744Z
UID:9445-1753714800-1753720200@proctormn.gov
SUMMARY:Tourism Committee
DESCRIPTION:
URL:https://proctormn.gov/event/tourism-committee-2/
CATEGORIES:Government,Meeting
END:VEVENT
BEGIN:VEVENT
DTSTART;TZID=America/Chicago:20250721T180000
DTEND;TZID=America/Chicago:20250721T180000
DTSTAMP:20260419T221357
CREATED:20240102T205117Z
LAST-MODIFIED:20250328T202744Z
UID:8575-1753120800-1753120800@proctormn.gov
SUMMARY:City Council
DESCRIPTION:In-Person Access\nThe 6:00 p.m. City Council Meetings are open to the public and held in council chambers at the Proctor Area Community Center (PACC) 100 Pionk Drive Proctor\, MN. Visitors should park in the North parking lot and enter Door 6. \nRemote Access\nThe 6:00 p.m. City Council Meeting is available remotely via YouTube https://www.youtube.com/@trac7298/streams. To comment during the public comment period of the meeting call 218-628-6268. Your call will be answered in the order it was received.  Your comments will be broadcast in the council chambers and on YouTube. \nPublic comments may also be submitted in advance of the meeting to cityhall@proctormn.gov up to 3:00 p.m. the day of the meeting with the e-mail title “City Council Meeting.”  All comments are public data
URL:https://proctormn.gov/event/council-meeting-2/
LOCATION:Proctor Area Community Center/City Hall\, 100 Pionk Drive\, Proctor\, 55810\, United States
CATEGORIES:Government,Meeting
END:VEVENT
BEGIN:VEVENT
DTSTART;TZID=America/Chicago:20250721T170000
DTEND;TZID=America/Chicago:20250721T180000
DTSTAMP:20260419T221357
CREATED:20250328T200930Z
LAST-MODIFIED:20250328T202829Z
UID:9850-1753117200-1753120800@proctormn.gov
SUMMARY:City Council Pre-Agenda Meeting
DESCRIPTION:The 5:00 p.m. pre-agenda meeting is a work session between the City Council and City staff to review the upcoming City Council meeting agenda\, future meeting agendas\, and is a time for the City Council and City staff to have discussions about the agenda items and asking and answering questions. The agenda for the pre-agenda meeting is the same document as the upcoming City Council meeting agenda but does not follow the same format as the City Council meeting. Although pre-agenda meetings are open to the public\, it is not a time for public comment\, as the public can listen to the conversation and ask questions or provide input at the upcoming City Council meeting. Visitors should park in the North parking lot and enter Door 6.
URL:https://proctormn.gov/event/city-council-pre-agenda-meeting-11/
LOCATION:Proctor Area Community Center/City Hall\, 100 Pionk Drive\, Proctor\, 55810\, United States
CATEGORIES:Government,Meeting
END:VEVENT
BEGIN:VEVENT
DTSTART;TZID=America/Chicago:20250714T160000
DTEND;TZID=America/Chicago:20250714T180000
DTSTAMP:20260419T221357
CREATED:20250707T191348Z
LAST-MODIFIED:20250707T191348Z
UID:10015-1752508800-1752516000@proctormn.gov
SUMMARY:PEDA Development Open House
DESCRIPTION:
URL:https://proctormn.gov/event/peda-development-open-house/
LOCATION:Proctor Area Community Center/City Hall\, 100 Pionk Drive\, Proctor\, 55810\, United States
END:VEVENT
BEGIN:VEVENT
DTSTART;TZID=America/Chicago:20250714T160000
DTEND;TZID=America/Chicago:20250714T170000
DTSTAMP:20260419T221357
CREATED:20250709T205435Z
LAST-MODIFIED:20250709T205435Z
UID:10019-1752508800-1752512400@proctormn.gov
SUMMARY:Public Safety Committee Meeting
DESCRIPTION:
URL:https://proctormn.gov/event/public-safety-committee-meeting-2/
LOCATION:Proctor Area Community Center/City Hall\, 100 Pionk Drive\, Proctor\, 55810\, United States
END:VEVENT
BEGIN:VEVENT
DTSTART;TZID=America/Chicago:20250714T180000
DTEND;TZID=America/Chicago:20250714T180000
DTSTAMP:20260419T221357
CREATED:20240102T205148Z
LAST-MODIFIED:20250328T212252Z
UID:8577-1752516000-1752516000@proctormn.gov
SUMMARY:Proctor Utility Commission
DESCRIPTION:
URL:https://proctormn.gov/event/puc-meeting-17/
LOCATION:Proctor Area Community Center/City Hall\, 100 Pionk Drive\, Proctor\, 55810\, United States
CATEGORIES:Government,Meeting
END:VEVENT
BEGIN:VEVENT
DTSTART;TZID=America/Chicago:20250708T180000
DTEND;TZID=America/Chicago:20250708T180000
DTSTAMP:20260419T221357
CREATED:20240102T205234Z
LAST-MODIFIED:20250328T212333Z
UID:8579-1751997600-1751997600@proctormn.gov
SUMMARY:Proctor Economic Development Authority
DESCRIPTION:
URL:https://proctormn.gov/event/peda-meeting-17/
LOCATION:Proctor Area Community Center/City Hall\, 100 Pionk Drive\, Proctor\, 55810\, United States
CATEGORIES:Government,Meeting
END:VEVENT
BEGIN:VEVENT
DTSTART;TZID=America/Chicago:20250707T180000
DTEND;TZID=America/Chicago:20250707T180000
DTSTAMP:20260419T221357
CREATED:20240102T205042Z
LAST-MODIFIED:20250328T202829Z
UID:8573-1751911200-1751911200@proctormn.gov
SUMMARY:City Council
DESCRIPTION:In-Person Access\nThe 6:00 p.m. City Council Meetings are open to the public and held in council chambers at the Proctor Area Community Center (PACC) 100 Pionk Drive Proctor\, MN. Visitors should park in the North parking lot and enter Door 6. \nRemote Access\nThe 6:00 p.m. City Council Meeting is available remotely via YouTube https://www.youtube.com/@trac7298/streams. To comment during the public comment period of the meeting call 218-628-6268. Your call will be answered in the order it was received.  Your comments will be broadcast in the council chambers and on YouTube. \nPublic comments may also be submitted in advance of the meeting to cityhall@proctormn.gov up to 3:00 p.m. the day of the meeting with the e-mail title “City Council Meeting.”  All comments are public data
URL:https://proctormn.gov/event/council-meeting/
LOCATION:Proctor Area Community Center/City Hall\, 100 Pionk Drive\, Proctor\, 55810\, United States
CATEGORIES:Government,Meeting
END:VEVENT
BEGIN:VEVENT
DTSTART;TZID=America/Chicago:20250707T170000
DTEND;TZID=America/Chicago:20250707T180000
DTSTAMP:20260419T221357
CREATED:20250328T200807Z
LAST-MODIFIED:20250328T202829Z
UID:9847-1751907600-1751911200@proctormn.gov
SUMMARY:City Council Pre-Agenda Meeting
DESCRIPTION:The 5:00 p.m. pre-agenda meeting is a work session between the City Council and City staff to review the upcoming City Council meeting agenda\, future meeting agendas\, and is a time for the City Council and City staff to have discussions about the agenda items and asking and answering questions. The agenda for the pre-agenda meeting is the same document as the upcoming City Council meeting agenda but does not follow the same format as the City Council meeting. Although pre-agenda meetings are open to the public\, it is not a time for public comment\, as the public can listen to the conversation and ask questions or provide input at the upcoming City Council meeting. Visitors should park in the North parking lot and enter Door 6.
URL:https://proctormn.gov/event/city-council-pre-agenda-meeting-10/
LOCATION:Proctor Area Community Center/City Hall\, 100 Pionk Drive\, Proctor\, 55810\, United States
CATEGORIES:Government,Meeting
END:VEVENT
BEGIN:VEVENT
DTSTART;TZID=America/Chicago:20250704T080000
DTEND;TZID=America/Chicago:20250704T163000
DTSTAMP:20260419T221357
CREATED:20230110T214924Z
LAST-MODIFIED:20250617T143314Z
UID:7714-1751616000-1751646600@proctormn.gov
SUMMARY:Offices Closed - July 4\, 2025
DESCRIPTION:
URL:https://proctormn.gov/event/4th-of-july-offices-closed/
LOCATION:Proctor Area Community Center/City Hall\, 100 Pionk Drive\, Proctor\, 55810\, United States
CATEGORIES:Resident,Visitor
END:VEVENT
BEGIN:VEVENT
DTSTART;TZID=America/Chicago:20250624T180000
DTEND;TZID=America/Chicago:20250624T180000
DTSTAMP:20260419T221357
CREATED:20250617T142459Z
LAST-MODIFIED:20250617T145758Z
UID:10002-1750788000-1750788000@proctormn.gov
SUMMARY:Proctor EDA Public Hearing
DESCRIPTION:PEDA Public Hearing Notice
URL:https://proctormn.gov/event/proctor-eda-public-hearing/
LOCATION:Proctor Area Community Center/City Hall\, 100 Pionk Drive\, Proctor\, 55810\, United States
END:VEVENT
BEGIN:VEVENT
DTSTART;TZID=America/Chicago:20250623T170000
DTEND;TZID=America/Chicago:20250623T170000
DTSTAMP:20260419T221357
CREATED:20240102T204606Z
LAST-MODIFIED:20250623T182841Z
UID:8559-1750698000-1750698000@proctormn.gov
SUMMARY:Cancelled - Planning & Zoning Commission
DESCRIPTION:
URL:https://proctormn.gov/event/p-z-meeting-4/
LOCATION:Proctor Area Community Center/City Hall\, 100 Pionk Drive\, Proctor\, 55810\, United States
CATEGORIES:Government,Meeting
END:VEVENT
BEGIN:VEVENT
DTSTART;TZID=America/Chicago:20250619T080000
DTEND;TZID=America/Chicago:20250619T163000
DTSTAMP:20260419T221357
CREATED:20250617T143125Z
LAST-MODIFIED:20250617T143139Z
UID:10006-1750320000-1750350600@proctormn.gov
SUMMARY:Offices Closed - June 19\, 2025
DESCRIPTION:
URL:https://proctormn.gov/event/offices-closed-june-19-2025/
LOCATION:Proctor Area Community Center/City Hall\, 100 Pionk Drive\, Proctor\, 55810\, United States
END:VEVENT
BEGIN:VEVENT
DTSTART;TZID=America/Chicago:20250616T180000
DTEND;TZID=America/Chicago:20250616T180000
DTSTAMP:20260419T221357
CREATED:20240102T204739Z
LAST-MODIFIED:20250328T202829Z
UID:8563-1750096800-1750096800@proctormn.gov
SUMMARY:City Council
DESCRIPTION:In-Person Access\nThe 6:00 p.m. City Council Meetings are open to the public and held in council chambers at the Proctor Area Community Center (PACC) 100 Pionk Drive Proctor\, MN. Visitors should park in the North parking lot and enter Door 6. \nRemote Access\nThe 6:00 p.m. City Council Meeting is available remotely via YouTube https://www.youtube.com/@trac7298/streams. To comment during the public comment period of the meeting call 218-628-6268. Your call will be answered in the order it was received.  Your comments will be broadcast in the council chambers and on YouTube. \nPublic comments may also be submitted in advance of the meeting to cityhall@proctormn.gov up to 3:00 p.m. the day of the meeting with the e-mail title “City Council Meeting.”  All comments are public data
URL:https://proctormn.gov/event/city-council-31/
LOCATION:Proctor Area Community Center/City Hall\, 100 Pionk Drive\, Proctor\, 55810\, United States
CATEGORIES:Government,Meeting
END:VEVENT
BEGIN:VEVENT
DTSTART;TZID=America/Chicago:20250616T170000
DTEND;TZID=America/Chicago:20250616T180000
DTSTAMP:20260419T221357
CREATED:20250328T200030Z
LAST-MODIFIED:20250328T202829Z
UID:9843-1750093200-1750096800@proctormn.gov
SUMMARY:City Council Pre-Agenda Meeting
DESCRIPTION:The 5:00 p.m. pre-agenda meeting is a work session between the City Council and City staff to review the upcoming City Council meeting agenda\, future meeting agendas\, and is a time for the City Council and City staff to have discussions about the agenda items and asking and answering questions. The agenda for the pre-agenda meeting is the same document as the upcoming City Council meeting agenda but does not follow the same format as the City Council meeting. Although pre-agenda meetings are open to the public\, it is not a time for public comment\, as the public can listen to the conversation and ask questions or provide input at the upcoming City Council meeting. Visitors should park in the North parking lot and enter Door 6.
URL:https://proctormn.gov/event/city-council-pre-agenda-meeting-8/
LOCATION:Proctor Area Community Center/City Hall\, 100 Pionk Drive\, Proctor\, 55810\, United States
CATEGORIES:Government,Meeting
END:VEVENT
BEGIN:VEVENT
DTSTART;TZID=America/Chicago:20250610T180000
DTEND;TZID=America/Chicago:20250610T180000
DTSTAMP:20260419T221357
CREATED:20240102T204859Z
LAST-MODIFIED:20250328T212513Z
UID:8567-1749578400-1749578400@proctormn.gov
SUMMARY:Proctor Economic Development Authoriy
DESCRIPTION:
URL:https://proctormn.gov/event/peda-meeting-16/
LOCATION:Proctor Area Community Center/City Hall\, 100 Pionk Drive\, Proctor\, 55810\, United States
CATEGORIES:Government,Meeting
END:VEVENT
BEGIN:VEVENT
DTSTART;TZID=America/Chicago:20250610T090000
DTEND;TZID=America/Chicago:20250610T100000
DTSTAMP:20260419T221357
CREATED:20250604T190642Z
LAST-MODIFIED:20250604T205220Z
UID:9998-1749546000-1749549600@proctormn.gov
SUMMARY:Parks & Recreation Committee Meeting
DESCRIPTION:
URL:https://proctormn.gov/event/parks-recreation-committee-meeting/
LOCATION:Proctor Area Community Center/City Hall\, 100 Pionk Drive\, Proctor\, 55810\, United States
END:VEVENT
BEGIN:VEVENT
DTSTART;TZID=America/Chicago:20250609T180000
DTEND;TZID=America/Chicago:20250609T180000
DTSTAMP:20260419T221357
CREATED:20240102T204820Z
LAST-MODIFIED:20250609T224941Z
UID:8565-1749492000-1749492000@proctormn.gov
SUMMARY:Proctor Utility Commission
DESCRIPTION:
URL:https://proctormn.gov/event/puc-meeting-16/
LOCATION:Proctor Area Community Center/City Hall\, 100 Pionk Drive\, Proctor\, 55810\, United States
CATEGORIES:Government,Meeting
END:VEVENT
BEGIN:VEVENT
DTSTART;TZID=America/Chicago:20250602T180000
DTEND;TZID=America/Chicago:20250602T180000
DTSTAMP:20260419T221357
CREATED:20240102T204644Z
LAST-MODIFIED:20250328T202830Z
UID:8561-1748887200-1748887200@proctormn.gov
SUMMARY:City Council
DESCRIPTION:In-Person Access\nThe 6:00 p.m. City Council Meetings are open to the public and held in council chambers at the Proctor Area Community Center (PACC) 100 Pionk Drive Proctor\, MN. Visitors should park in the North parking lot and enter Door 6. \nRemote Access\nThe 6:00 p.m. City Council Meeting is available remotely via YouTube https://www.youtube.com/@trac7298/streams. To comment during the public comment period of the meeting call 218-628-6268. Your call will be answered in the order it was received.  Your comments will be broadcast in the council chambers and on YouTube. \nPublic comments may also be submitted in advance of the meeting to cityhall@proctormn.gov up to 3:00 p.m. the day of the meeting with the e-mail title “City Council Meeting.”  All comments are public data
URL:https://proctormn.gov/event/city-council-23/
LOCATION:Proctor Area Community Center/City Hall\, 100 Pionk Drive\, Proctor\, 55810\, United States
CATEGORIES:Government,Meeting
END:VEVENT
BEGIN:VEVENT
DTSTART;TZID=America/Chicago:20250526T170000
DTEND;TZID=America/Chicago:20250526T170000
DTSTAMP:20260419T221357
CREATED:20240102T203029Z
LAST-MODIFIED:20250523T163537Z
UID:8549-1748278800-1748278800@proctormn.gov
SUMMARY:Planning & Zoning Commission - CANCELED and not rescheduled
DESCRIPTION:
URL:https://proctormn.gov/event/p-z-meeting-3/
LOCATION:Proctor Area Community Center/City Hall\, 100 Pionk Drive\, Proctor\, 55810\, United States
CATEGORIES:Government,Meeting
END:VEVENT
BEGIN:VEVENT
DTSTART;TZID=America/Chicago:20250526T080000
DTEND;TZID=America/Chicago:20250526T163000
DTSTAMP:20260419T221357
CREATED:20230110T214821Z
LAST-MODIFIED:20250328T212703Z
UID:7712-1748246400-1748277000@proctormn.gov
SUMMARY:Memorial Day - Offices Closed
DESCRIPTION:
URL:https://proctormn.gov/event/memorial-day-offices-closed-2/
CATEGORIES:Resident,Visitor
END:VEVENT
END:VCALENDAR