BEGIN:VCALENDAR
VERSION:2.0
PRODID:-//City of Proctor, MN - ECPv6.10.1.1//NONSGML v1.0//EN
CALSCALE:GREGORIAN
METHOD:PUBLISH
X-WR-CALNAME:City of Proctor, MN
X-ORIGINAL-URL:https://proctormn.gov
X-WR-CALDESC:Events for City of Proctor, MN
REFRESH-INTERVAL;VALUE=DURATION:PT1H
X-Robots-Tag:noindex
X-PUBLISHED-TTL:PT1H
BEGIN:VTIMEZONE
TZID:America/Chicago
BEGIN:DAYLIGHT
TZOFFSETFROM:-0600
TZOFFSETTO:-0500
TZNAME:CDT
DTSTART:20240310T080000
END:DAYLIGHT
BEGIN:STANDARD
TZOFFSETFROM:-0500
TZOFFSETTO:-0600
TZNAME:CST
DTSTART:20241103T070000
END:STANDARD
BEGIN:DAYLIGHT
TZOFFSETFROM:-0600
TZOFFSETTO:-0500
TZNAME:CDT
DTSTART:20250309T080000
END:DAYLIGHT
BEGIN:STANDARD
TZOFFSETFROM:-0500
TZOFFSETTO:-0600
TZNAME:CST
DTSTART:20251102T070000
END:STANDARD
END:VTIMEZONE
BEGIN:VEVENT
DTSTART;TZID=America/Chicago:20241217T180000
DTEND;TZID=America/Chicago:20241217T190000
DTSTAMP:20260421T212255
CREATED:20240102T211417Z
LAST-MODIFIED:20250328T202908Z
UID:8633-1734458400-1734462000@proctormn.gov
SUMMARY:PEDA Meeting - Date Change
DESCRIPTION:
URL:https://proctormn.gov/event/peda-meeting-22/
CATEGORIES:Government,Meeting
END:VEVENT
BEGIN:VEVENT
DTSTART;TZID=America/Chicago:20241216T170000
DTEND;TZID=America/Chicago:20241216T180000
DTSTAMP:20260421T212255
CREATED:20241121T203408Z
LAST-MODIFIED:20250328T202908Z
UID:9412-1734368400-1734372000@proctormn.gov
SUMMARY:P & Z Committee Meeting - Date Change
DESCRIPTION:Regular Meeting scheduled for December 23.  Meeting moved to December 16 because of holidays
URL:https://proctormn.gov/event/p-z-committee-meeting-rescheduled/
CATEGORIES:Government,Meeting
END:VEVENT
BEGIN:VEVENT
DTSTART;TZID=America/Chicago:20241028T170000
DTEND;TZID=America/Chicago:20241028T180000
DTSTAMP:20260421T212255
CREATED:20240102T210213Z
LAST-MODIFIED:20250328T202908Z
UID:8603-1730134800-1730138400@proctormn.gov
SUMMARY:P & Z Meeting
DESCRIPTION:
URL:https://proctormn.gov/event/p-z-meeting-8/
CATEGORIES:Government,Meeting
END:VEVENT
BEGIN:VEVENT
DTSTART;TZID=America/Chicago:20250619T080000
DTEND;TZID=America/Chicago:20250619T080000
DTSTAMP:20260421T212255
CREATED:20240102T201312Z
LAST-MODIFIED:20241127T222305Z
UID:8527-1750320000-1750320000@proctormn.gov
SUMMARY:Juneteenth Holiday - Offices Closed
DESCRIPTION:
URL:https://proctormn.gov/event/juneteenth-holiday-offices-closed/
END:VEVENT
END:VCALENDAR