BEGIN:VCALENDAR
VERSION:2.0
PRODID:-//City of Proctor, MN - ECPv6.10.1.1//NONSGML v1.0//EN
CALSCALE:GREGORIAN
METHOD:PUBLISH
X-ORIGINAL-URL:https://proctormn.gov
X-WR-CALDESC:Events for City of Proctor, MN
REFRESH-INTERVAL;VALUE=DURATION:PT1H
X-Robots-Tag:noindex
X-PUBLISHED-TTL:PT1H
BEGIN:VTIMEZONE
TZID:America/Chicago
BEGIN:DAYLIGHT
TZOFFSETFROM:-0600
TZOFFSETTO:-0500
TZNAME:CDT
DTSTART:20250309T080000
END:DAYLIGHT
BEGIN:STANDARD
TZOFFSETFROM:-0500
TZOFFSETTO:-0600
TZNAME:CST
DTSTART:20251102T070000
END:STANDARD
END:VTIMEZONE
BEGIN:VEVENT
DTSTART;TZID=America/Chicago:20250114T180000
DTEND;TZID=America/Chicago:20250114T190000
DTSTAMP:20260420T121709
CREATED:20240102T200602Z
LAST-MODIFIED:20250328T202908Z
UID:8521-1736877600-1736881200@proctormn.gov
SUMMARY:PEDA Meeting
DESCRIPTION:
URL:https://proctormn.gov/event/peda-meeting-2/
CATEGORIES:Government,Meeting
END:VEVENT
BEGIN:VEVENT
DTSTART;TZID=America/Chicago:20250120T080000
DTEND;TZID=America/Chicago:20250120T163000
DTSTAMP:20260420T121709
CREATED:20230110T214711Z
LAST-MODIFIED:20241127T215623Z
UID:7708-1737360000-1737390600@proctormn.gov
SUMMARY:Martin Luther King Day - Offices Closed
DESCRIPTION:
URL:https://proctormn.gov/event/martin-luther-king-day-offices-closed-2/
END:VEVENT
BEGIN:VEVENT
DTSTART;TZID=America/Chicago:20250121T180000
DTEND;TZID=America/Chicago:20250121T190000
DTSTAMP:20260420T121709
CREATED:20240101T133954Z
LAST-MODIFIED:20250328T202908Z
UID:8516-1737482400-1737486000@proctormn.gov
SUMMARY:City Council Meeting - Holiday Schedule Change
DESCRIPTION:
URL:https://proctormn.gov/event/city-council-meeting-holiday-schedule-change/
CATEGORIES:Government,Meeting
END:VEVENT
BEGIN:VEVENT
DTSTART;TZID=America/Chicago:20250127T150000
DTEND;TZID=America/Chicago:20250127T163000
DTSTAMP:20260420T121709
CREATED:20230110T203832Z
LAST-MODIFIED:20250328T202908Z
UID:7701-1737990000-1737995400@proctormn.gov
SUMMARY:Tourism Committee
DESCRIPTION:
URL:https://proctormn.gov/event/tourism-committee-6/
CATEGORIES:Government,Meeting
END:VEVENT
BEGIN:VEVENT
DTSTART;TZID=America/Chicago:20250127T170000
DTEND;TZID=America/Chicago:20250127T180000
DTSTAMP:20260420T121709
CREATED:20230110T203439Z
LAST-MODIFIED:20250328T202908Z
UID:7693-1737997200-1738000800@proctormn.gov
SUMMARY:Planning & Zoning
DESCRIPTION:
URL:https://proctormn.gov/event/planning-zoning-18/
CATEGORIES:Government,Meeting
END:VEVENT
BEGIN:VEVENT
DTSTART;TZID=America/Chicago:20250127T170000
DTEND;TZID=America/Chicago:20250127T180000
DTSTAMP:20260420T121709
CREATED:20250113T190405Z
LAST-MODIFIED:20250328T202908Z
UID:9541-1737997200-1738000800@proctormn.gov
SUMMARY:Planning & Zoning Pubic Hearing
DESCRIPTION:
URL:https://proctormn.gov/event/planning-zoning-pubic-hearing/
CATEGORIES:Government,Meeting
END:VEVENT
BEGIN:VEVENT
DTSTART;TZID=America/Chicago:20250203T171500
DTEND;TZID=America/Chicago:20250203T180000
DTSTAMP:20260420T121709
CREATED:20250117T215118Z
LAST-MODIFIED:20250328T202908Z
UID:9555-1738602900-1738605600@proctormn.gov
SUMMARY:Joint Civil Service City Council Meeting
DESCRIPTION:⇒  Meeting Notice
URL:https://proctormn.gov/event/joint-civil-service-city-council-meeting/
CATEGORIES:Government,Meeting
END:VEVENT
BEGIN:VEVENT
DTSTART;TZID=America/Chicago:20250203T180000
DTEND;TZID=America/Chicago:20250203T190000
DTSTAMP:20260420T121709
CREATED:20230110T202734Z
LAST-MODIFIED:20250328T202908Z
UID:7667-1738605600-1738609200@proctormn.gov
SUMMARY:City Council
DESCRIPTION:
URL:https://proctormn.gov/event/city-council-27/
CATEGORIES:Government,Meeting
END:VEVENT
BEGIN:VEVENT
DTSTART;TZID=America/Chicago:20250210T180000
DTEND;TZID=America/Chicago:20250210T190000
DTSTAMP:20260420T121709
CREATED:20240102T201223Z
LAST-MODIFIED:20250328T202908Z
UID:8525-1739210400-1739214000@proctormn.gov
SUMMARY:PUC Meeting
DESCRIPTION:
URL:https://proctormn.gov/event/puc-meeting-4/
CATEGORIES:Government,Meeting
END:VEVENT
BEGIN:VEVENT
DTSTART;TZID=America/Chicago:20250211T180000
DTEND;TZID=America/Chicago:20250211T190000
DTSTAMP:20260420T121709
CREATED:20211203T162138Z
LAST-MODIFIED:20250328T202908Z
UID:6418-1739296800-1739300400@proctormn.gov
SUMMARY:PEDA Meeting
DESCRIPTION:
URL:https://proctormn.gov/event/peda-meeting-11/
CATEGORIES:Government,Meeting
END:VEVENT
BEGIN:VEVENT
DTSTART;TZID=America/Chicago:20250217T080000
DTEND;TZID=America/Chicago:20250217T170000
DTSTAMP:20260420T121709
CREATED:20230110T214751Z
LAST-MODIFIED:20241127T220219Z
UID:7710-1739779200-1739811600@proctormn.gov
SUMMARY:Presidents Day - Offices Closed
DESCRIPTION:
URL:https://proctormn.gov/event/presidents-day-offices-closed-2/
END:VEVENT
BEGIN:VEVENT
DTSTART;TZID=America/Chicago:20250218T150000
DTEND;TZID=America/Chicago:20250218T160000
DTSTAMP:20260420T121709
CREATED:20250204T214533Z
LAST-MODIFIED:20250328T202908Z
UID:9724-1739890800-1739894400@proctormn.gov
SUMMARY:Public Safety Committee Meeting
DESCRIPTION:
URL:https://proctormn.gov/event/public-safety-committee-meeting/
CATEGORIES:Government,Meeting
END:VEVENT
BEGIN:VEVENT
DTSTART;TZID=America/Chicago:20250218T180000
DTEND;TZID=America/Chicago:20250218T190000
DTSTAMP:20260420T121709
CREATED:20240102T201120Z
LAST-MODIFIED:20250328T202830Z
UID:8523-1739901600-1739905200@proctormn.gov
SUMMARY:City Council - Date change for Holiday
DESCRIPTION:
URL:https://proctormn.gov/event/city-council-8/
CATEGORIES:Government,Meeting
END:VEVENT
BEGIN:VEVENT
DTSTART;TZID=America/Chicago:20250224T170000
DTEND;TZID=America/Chicago:20250224T180000
DTSTAMP:20260420T121709
CREATED:20240102T201558Z
LAST-MODIFIED:20250328T202830Z
UID:8531-1740416400-1740420000@proctormn.gov
SUMMARY:Planning & Zoning Meeting
DESCRIPTION:
URL:https://proctormn.gov/event/planning-zoning-meeting/
CATEGORIES:Government,Meeting
END:VEVENT
BEGIN:VEVENT
DTSTART;TZID=America/Chicago:20250303T170000
DTEND;TZID=America/Chicago:20250303T180000
DTSTAMP:20260420T121709
CREATED:20250225T165647Z
LAST-MODIFIED:20250328T202830Z
UID:9740-1741021200-1741024800@proctormn.gov
SUMMARY:City Council Pre-Agenda Meeting
DESCRIPTION:Proctor City Council Pre-Agenda Meeting Access\nThe 5:00 p.m. Pre-Agenda Meeting is open to the public and are held in council chambers at the Proctor Area Community Center (PACC) 100 Pionk Drive Proctor\, MN. Visitors should park in the North parking lot and enter Door 6.   The Pre-Agenda Meeting is available in-person only at City Hall. Public comment is generally not allowed at the pre-agenda meeting. \n 
URL:https://proctormn.gov/event/city-council-pre-agenda-meeting/
CATEGORIES:Government,Meeting
END:VEVENT
BEGIN:VEVENT
DTSTART;TZID=America/Chicago:20250303T180000
DTEND;TZID=America/Chicago:20250303T190000
DTSTAMP:20260420T121709
CREATED:20191028T203759Z
LAST-MODIFIED:20250328T202830Z
UID:2828-1741024800-1741028400@proctormn.gov
SUMMARY:City Council
DESCRIPTION:In-Person Access\nThe 6:00 p.m. City Council Meetings are open to the public and held in council chambers at the Proctor Area Community Center (PACC) 100 Pionk Drive Proctor\, MN. Visitors should park in the North parking lot and enter Door 6. \nRemote Access\nThe 6:00 p.m. City Council Meeting is available remotely via YouTube https://www.youtube.com/@trac7298/streams. To comment during the public comment period of the meeting call 218-628-6268. Your call will be answered in the order it was received.  Your comments will be broadcast in the council chambers and on YouTube. \nNOTE: Our apologies but our usual broadcast of the Proctor City Council on YouTube Trac7 will not be available Monday March 3\, 2025. In its place we are offering live audio access via Microsoft Teams. If you would like to participate in the public comment period of the meeting\, please call 218-628-6268. Use of your video and microphone in Microsoft Teams will be restricted.  \n3/3/2025 6:00 Live Audio Access Join the meeting now \nPublic comments may also be submitted in advance of the meeting to  cityhall@proctormn.gov up to 3:00 p.m. the day of the meeting with the e-mail title “City Council Meeting.”  All comments are public data.
URL:https://proctormn.gov/event/city-council-3/
CATEGORIES:Government,Meeting
END:VEVENT
BEGIN:VEVENT
DTSTART;TZID=America/Chicago:20250310T180000
DTEND;TZID=America/Chicago:20250310T190000
DTSTAMP:20260420T121709
CREATED:20240102T202311Z
LAST-MODIFIED:20250328T202830Z
UID:8533-1741629600-1741633200@proctormn.gov
SUMMARY:PUC Meeting
DESCRIPTION:
URL:https://proctormn.gov/event/puc-meeting-13/
CATEGORIES:Government,Meeting
END:VEVENT
BEGIN:VEVENT
DTSTART;TZID=America/Chicago:20250311T180000
DTEND;TZID=America/Chicago:20250311T193000
DTSTAMP:20260420T121709
CREATED:20211203T151934Z
LAST-MODIFIED:20250328T202830Z
UID:6378-1741716000-1741721400@proctormn.gov
SUMMARY:PEDA Meeting - Cancelled!
DESCRIPTION:This meeting has been cancelled and will be rescheduled.
URL:https://proctormn.gov/event/peda-meeting/
CATEGORIES:Government,Meeting
END:VEVENT
BEGIN:VEVENT
DTSTART;TZID=America/Chicago:20250317T170000
DTEND;TZID=America/Chicago:20250317T180000
DTSTAMP:20260420T121709
CREATED:20250225T170314Z
LAST-MODIFIED:20250328T202830Z
UID:9745-1742230800-1742234400@proctormn.gov
SUMMARY:City Council Pre-Agenda Meeting
DESCRIPTION:The 5:00 p.m. pre-agenda meeting is a work session between the City Council and City staff to review the upcoming City Council meeting agenda\, future meeting agendas\, and is a time for the City Council and City staff to have discussions about the agenda items and asking and answering questions. The agenda for the pre-agenda meeting is the same document as the upcoming City Council meeting agenda but does not follow the same format as the City Council meeting. Although pre-agenda meetings are open to the public\, it is not a time for public comment\, as the public can listen to the conversation and ask questions or provide input at the upcoming City Council meeting. Visitors should park in the North parking lot and enter Door 6.
URL:https://proctormn.gov/event/city-council-pre-agenda-meeting-2/
LOCATION:Proctor Area Community Center/City Hall\, 100 Pionk Drive\, Proctor\, 55810\, United States
CATEGORIES:Government,Meeting
END:VEVENT
BEGIN:VEVENT
DTSTART;TZID=America/Chicago:20250317T180000
DTEND;TZID=America/Chicago:20250317T190000
DTSTAMP:20260420T121709
CREATED:20230110T202948Z
LAST-MODIFIED:20250328T202830Z
UID:7673-1742234400-1742238000@proctormn.gov
SUMMARY:City Council
DESCRIPTION:Agenda: 03172025 council packet \nIn-Person Access\nThe 6:00 p.m. City Council Meetings are open to the public and held in council chambers at the Proctor Area Community Center (PACC) 100 Pionk Drive Proctor\, MN. Visitors should park in the North parking lot and enter Door 6. \nRemote Access\nThe 6:00 p.m. City Council Meeting is available remotely via YouTube https://www.youtube.com/@trac7298/streams. To comment during the public comment period of the meeting call 218-628-6268. Your call will be answered in the order it was received.  Your comments will be broadcast in the council chambers and on YouTube. \nPublic comments may also be submitted in advance of the meeting to cityhall@proctormn.gov up to 3:00 p.m. the day of the meeting with the e-mail title “City Council Meeting.”  All comments are public data.
URL:https://proctormn.gov/event/city-council-30/
CATEGORIES:Government,Meeting
END:VEVENT
BEGIN:VEVENT
DTSTART;TZID=America/Chicago:20250324T080000
DTEND;TZID=America/Chicago:20250324T170000
DTSTAMP:20260420T121709
CREATED:20241209T204659Z
LAST-MODIFIED:20250328T202830Z
UID:9481-1742803200-1742835600@proctormn.gov
SUMMARY:P & Z Meeting
DESCRIPTION:
URL:https://proctormn.gov/event/p-z-meeting-9/
CATEGORIES:Government,Meeting
END:VEVENT
BEGIN:VEVENT
DTSTART;TZID=America/Chicago:20250407T170000
DTEND;TZID=America/Chicago:20250407T180000
DTSTAMP:20260420T121709
CREATED:20250317T183532Z
LAST-MODIFIED:20250328T202830Z
UID:9799-1744045200-1744048800@proctormn.gov
SUMMARY:City Council Pre-Agenda Meeting
DESCRIPTION:The 5:00 p.m. pre-agenda meeting is a work session between the City Council and City staff to review the upcoming City Council meeting agenda\, future meeting agendas\, and is a time for the City Council and City staff to have discussions about the agenda items and asking and answering questions. The agenda for the pre-agenda meeting is the same document as the upcoming City Council meeting agenda but does not follow the same format as the City Council meeting. Although pre-agenda meetings are open to the public\, it is not a time for public comment\, as the public can listen to the conversation and ask questions or provide input at the upcoming City Council meeting. Visitors should park in the North parking lot and enter Door 6.
URL:https://proctormn.gov/event/city-council-pre-agenda-meeting-4/
LOCATION:Proctor Area Community Center/City Hall\, 100 Pionk Drive\, Proctor\, 55810\, United States
CATEGORIES:Government,Meeting
END:VEVENT
BEGIN:VEVENT
DTSTART;TZID=America/Chicago:20250407T180000
DTEND;TZID=America/Chicago:20250407T180000
DTSTAMP:20260420T121709
CREATED:20240102T202635Z
LAST-MODIFIED:20250404T211847Z
UID:8537-1744048800-1744048800@proctormn.gov
SUMMARY:City Council
DESCRIPTION:04072025 council packetIn-Person Access\nThe 6:00 p.m. City Council Meetings are open to the public and held in council chambers at the Proctor Area Community Center (PACC) 100 Pionk Drive Proctor\, MN. Visitors should park in the North parking lot and enter Door 6. \nRemote Access\nThe 6:00 p.m. City Council Meeting is available remotely via YouTube https://www.youtube.com/@trac7298/streams. To comment during the public comment period of the meeting call 218-628-6268. Your call will be answered in the order it was received.  Your comments will be broadcast in the council chambers and on YouTube. \nPublic comments may also be submitted in advance of the meeting to cityhall@proctormn.gov up to 3:00 p.m. the day of the meeting with the e-mail title “City Council Meeting.”  All comments are public data.
URL:https://proctormn.gov/event/city-council-13/
LOCATION:Proctor Area Community Center/City Hall\, 100 Pionk Drive\, Proctor\, 55810\, United States
CATEGORIES:Government,Meeting
END:VEVENT
BEGIN:VEVENT
DTSTART;TZID=America/Chicago:20250408T180000
DTEND;TZID=America/Chicago:20250408T190000
DTSTAMP:20260420T121709
CREATED:20240102T202945Z
LAST-MODIFIED:20250408T161057Z
UID:8547-1744135200-1744138800@proctormn.gov
SUMMARY:PEDA Meeting - CANCELLED
DESCRIPTION:
URL:https://proctormn.gov/event/peda-meeting-9/
LOCATION:Proctor Area Community Center/City Hall\, 100 Pionk Drive\, Proctor\, 55810\, United States
CATEGORIES:Government,Meeting
END:VEVENT
BEGIN:VEVENT
DTSTART;TZID=America/Chicago:20250409T080000
DTEND;TZID=America/Chicago:20250516T163000
DTSTAMP:20260420T121709
CREATED:20250409T194035Z
LAST-MODIFIED:20250409T205619Z
UID:9934-1744185600-1747413000@proctormn.gov
SUMMARY:Annual Brush Pick Up List
DESCRIPTION:CLICK HERE FOR THE EASY-TO-USE ONLINE FORM! \nLink and sign up will expire May 16\, 2025.
URL:https://proctormn.gov/event/annual-brush-pick-up-list/
END:VEVENT
BEGIN:VEVENT
DTSTART;TZID=America/Chicago:20250414T163000
DTEND;TZID=America/Chicago:20250414T180000
DTSTAMP:20260420T121709
CREATED:20250409T192216Z
LAST-MODIFIED:20250409T192216Z
UID:9931-1744648200-1744653600@proctormn.gov
SUMMARY:City Council and PUC Special Meeting
DESCRIPTION:Special Meeting Notice \nThe Proctor City Council and Public Utility Commission will be meeting for a virtual presentation from consultant Baker Tilly on Monday\, April 14\, 2025 4:30 PM.  The purpose of the meeting is to learn more about the City of Proctor Classification and Compensation Study timeline and process. \nJoin the meeting now \nMeeting ID: 290 502 440 275 \nPasscode: zc2RY7NW
URL:https://proctormn.gov/event/city-council-and-puc-special-meeting/
CATEGORIES:Government,Meeting
ORGANIZER;CN="Jess rich":MAILTO:jrich@proctormn.gov
END:VEVENT
BEGIN:VEVENT
DTSTART;TZID=America/Chicago:20250414T170000
DTEND;TZID=America/Chicago:20250414T170000
DTSTAMP:20260420T121709
CREATED:20240102T202906Z
LAST-MODIFIED:20250411T145235Z
UID:8545-1744650000-1744650000@proctormn.gov
SUMMARY:PUC Meeting CANCELED and RESCHEDULED FOR 4/23/2025 5:00 pm
DESCRIPTION:
URL:https://proctormn.gov/event/puc-meeting-14/
LOCATION:Proctor Area Community Center/City Hall\, 100 Pionk Drive\, Proctor\, 55810\, United States
CATEGORIES:Government,Meeting
END:VEVENT
BEGIN:VEVENT
DTSTART;TZID=America/Chicago:20250421T170000
DTEND;TZID=America/Chicago:20250421T180000
DTSTAMP:20260420T121709
CREATED:20250317T183619Z
LAST-MODIFIED:20250328T202830Z
UID:9801-1745254800-1745258400@proctormn.gov
SUMMARY:City Council Pre-Agenda Meeting
DESCRIPTION:The 5:00 p.m. pre-agenda meeting is a work session between the City Council and City staff to review the upcoming City Council meeting agenda\, future meeting agendas\, and is a time for the City Council and City staff to have discussions about the agenda items and asking and answering questions. The agenda for the pre-agenda meeting is the same document as the upcoming City Council meeting agenda but does not follow the same format as the City Council meeting. Although pre-agenda meetings are open to the public\, it is not a time for public comment\, as the public can listen to the conversation and ask questions or provide input at the upcoming City Council meeting. Visitors should park in the North parking lot and enter Door 6.
URL:https://proctormn.gov/event/city-council-pre-agenda-meeting-5/
LOCATION:Proctor Area Community Center/City Hall\, 100 Pionk Drive\, Proctor\, 55810\, United States
CATEGORIES:Government,Meeting
END:VEVENT
BEGIN:VEVENT
DTSTART;TZID=America/Chicago:20250421T180000
DTEND;TZID=America/Chicago:20250421T180000
DTSTAMP:20260420T121709
CREATED:20240102T202718Z
LAST-MODIFIED:20250328T202830Z
UID:8539-1745258400-1745258400@proctormn.gov
SUMMARY:City Council
DESCRIPTION:In-Person Access\nThe 6:00 p.m. City Council Meetings are open to the public and held in council chambers at the Proctor Area Community Center (PACC) 100 Pionk Drive Proctor\, MN. Visitors should park in the North parking lot and enter Door 6. \nRemote Access\nThe 6:00 p.m. City Council Meeting is available remotely via YouTube https://www.youtube.com/@trac7298/streams. To comment during the public comment period of the meeting call 218-628-6268. Your call will be answered in the order it was received.  Your comments will be broadcast in the council chambers and on YouTube. \nPublic comments may also be submitted in advance of the meeting to cityhall@proctormn.gov up to 3:00 p.m. the day of the meeting with the e-mail title “City Council Meeting.”  All comments are public data
URL:https://proctormn.gov/event/city-council-20/
LOCATION:Proctor Area Community Center/City Hall\, 100 Pionk Drive\, Proctor\, 55810\, United States
CATEGORIES:Government,Meeting
END:VEVENT
BEGIN:VEVENT
DTSTART;TZID=America/Chicago:20250423T170000
DTEND;TZID=America/Chicago:20250423T170000
DTSTAMP:20260420T121709
CREATED:20250411T145052Z
LAST-MODIFIED:20250411T150454Z
UID:9951-1745427600-1745427600@proctormn.gov
SUMMARY:Proctor Utility Commission Meeting
DESCRIPTION:This is the 4/14/2025 rescheduled meeting.
URL:https://proctormn.gov/event/public-utility-commission-meeting/
LOCATION:Proctor Area Community Center/City Hall\, 100 Pionk Drive\, Proctor\, 55810\, United States
END:VEVENT
END:VCALENDAR