BEGIN:VCALENDAR
VERSION:2.0
PRODID:-//City of Proctor, MN - ECPv6.10.1.1//NONSGML v1.0//EN
CALSCALE:GREGORIAN
METHOD:PUBLISH
X-WR-CALNAME:City of Proctor, MN
X-ORIGINAL-URL:https://proctormn.gov
X-WR-CALDESC:Events for City of Proctor, MN
REFRESH-INTERVAL;VALUE=DURATION:PT1H
X-Robots-Tag:noindex
X-PUBLISHED-TTL:PT1H
BEGIN:VTIMEZONE
TZID:America/Chicago
BEGIN:DAYLIGHT
TZOFFSETFROM:-0600
TZOFFSETTO:-0500
TZNAME:CDT
DTSTART:20250309T080000
END:DAYLIGHT
BEGIN:STANDARD
TZOFFSETFROM:-0500
TZOFFSETTO:-0600
TZNAME:CST
DTSTART:20251102T070000
END:STANDARD
BEGIN:DAYLIGHT
TZOFFSETFROM:-0600
TZOFFSETTO:-0500
TZNAME:CDT
DTSTART:20260308T080000
END:DAYLIGHT
BEGIN:STANDARD
TZOFFSETFROM:-0500
TZOFFSETTO:-0600
TZNAME:CST
DTSTART:20261101T070000
END:STANDARD
END:VTIMEZONE
BEGIN:VEVENT
DTSTART;TZID=America/Chicago:20251020T170000
DTEND;TZID=America/Chicago:20251020T180000
DTSTAMP:20260420T012543
CREATED:20250328T202056Z
LAST-MODIFIED:20250328T202744Z
UID:9864-1760979600-1760983200@proctormn.gov
SUMMARY:City Council Pre-Agenda Meeting
DESCRIPTION:The 5:00 p.m. pre-agenda meeting is a work session between the City Council and City staff to review the upcoming City Council meeting agenda\, future meeting agendas\, and is a time for the City Council and City staff to have discussions about the agenda items and asking and answering questions. The agenda for the pre-agenda meeting is the same document as the upcoming City Council meeting agenda but does not follow the same format as the City Council meeting. Although pre-agenda meetings are open to the public\, it is not a time for public comment\, as the public can listen to the conversation and ask questions or provide input at the upcoming City Council meeting. Visitors should park in the North parking lot and enter Door 6.
URL:https://proctormn.gov/event/city-council-pre-agenda-meeting-17/
LOCATION:Proctor Area Community Center/City Hall\, 100 Pionk Drive\, Proctor\, 55810\, United States
CATEGORIES:Government,Meeting
END:VEVENT
BEGIN:VEVENT
DTSTART;TZID=America/Chicago:20251020T180000
DTEND;TZID=America/Chicago:20251020T180000
DTSTAMP:20260420T012543
CREATED:20241209T202928Z
LAST-MODIFIED:20250328T202744Z
UID:9472-1760983200-1760983200@proctormn.gov
SUMMARY:City Council
DESCRIPTION:In-Person Access\nThe 6:00 p.m. City Council Meetings are open to the public and held in council chambers at the Proctor Area Community Center (PACC) 100 Pionk Drive Proctor\, MN. Visitors should park in the North parking lot and enter Door 6. \nRemote Access\nThe 6:00 p.m. City Council Meeting is available remotely via YouTube https://www.youtube.com/@trac7298/streams. To comment during the public comment period of the meeting call 218-628-6268. Your call will be answered in the order it was received.  Your comments will be broadcast in the council chambers and on YouTube. \nPublic comments may also be submitted in advance of the meeting to cityhall@proctormn.gov up to 3:00 p.m. the day of the meeting with the e-mail title “City Council Meeting.”  All comments are public data
URL:https://proctormn.gov/event/council-meeting-13/
LOCATION:Proctor Area Community Center/City Hall\, 100 Pionk Drive\, Proctor\, 55810\, United States
CATEGORIES:Government,Meeting
END:VEVENT
BEGIN:VEVENT
DTSTART;TZID=America/Chicago:20251027T150000
DTEND;TZID=America/Chicago:20251027T163000
DTSTAMP:20260420T012543
CREATED:20241209T202406Z
LAST-MODIFIED:20250328T202744Z
UID:9466-1761577200-1761582600@proctormn.gov
SUMMARY:Tourism Committee
DESCRIPTION:
URL:https://proctormn.gov/event/tourism-committee-3/
CATEGORIES:Government,Meeting
END:VEVENT
BEGIN:VEVENT
DTSTART;TZID=America/Chicago:20251027T170000
DTEND;TZID=America/Chicago:20251027T170000
DTSTAMP:20260420T012543
CREATED:20241209T202518Z
LAST-MODIFIED:20250328T211106Z
UID:9468-1761584400-1761584400@proctormn.gov
SUMMARY:Planning & Zoning Commission
DESCRIPTION:
URL:https://proctormn.gov/event/p-z-meeting/
LOCATION:Proctor Area Community Center/City Hall\, 100 Pionk Drive\, Proctor\, 55810\, United States
CATEGORIES:Government,Meeting
END:VEVENT
BEGIN:VEVENT
DTSTART;TZID=America/Chicago:20251103T110000
DTEND;TZID=America/Chicago:20251103T110000
DTSTAMP:20260420T012543
CREATED:20251021T205905Z
LAST-MODIFIED:20251021T212336Z
UID:10064-1762167600-1762167600@proctormn.gov
SUMMARY:City Council Budget Working Session
DESCRIPTION:Conference Room
URL:https://proctormn.gov/event/city-council-budget-working-session/
LOCATION:Proctor Area Community Center/City Hall\, 100 Pionk Drive\, Proctor\, 55810\, United States
END:VEVENT
BEGIN:VEVENT
DTSTART;TZID=America/Chicago:20251103T170000
DTEND;TZID=America/Chicago:20251103T180000
DTSTAMP:20260420T012543
CREATED:20250328T202139Z
LAST-MODIFIED:20250328T202743Z
UID:9866-1762189200-1762192800@proctormn.gov
SUMMARY:City Council Pre-Agenda Meeting
DESCRIPTION:The 5:00 p.m. pre-agenda meeting is a work session between the City Council and City staff to review the upcoming City Council meeting agenda\, future meeting agendas\, and is a time for the City Council and City staff to have discussions about the agenda items and asking and answering questions. The agenda for the pre-agenda meeting is the same document as the upcoming City Council meeting agenda but does not follow the same format as the City Council meeting. Although pre-agenda meetings are open to the public\, it is not a time for public comment\, as the public can listen to the conversation and ask questions or provide input at the upcoming City Council meeting. Visitors should park in the North parking lot and enter Door 6.
URL:https://proctormn.gov/event/city-council-pre-agenda-meeting-18/
LOCATION:Proctor Area Community Center/City Hall\, 100 Pionk Drive\, Proctor\, 55810\, United States
CATEGORIES:Government,Meeting
END:VEVENT
BEGIN:VEVENT
DTSTART;TZID=America/Chicago:20251103T180000
DTEND;TZID=America/Chicago:20251103T180000
DTSTAMP:20260420T012543
CREATED:20241209T202805Z
LAST-MODIFIED:20250328T202743Z
UID:9470-1762192800-1762192800@proctormn.gov
SUMMARY:City Council
DESCRIPTION:In-Person Access\nThe 6:00 p.m. City Council Meetings are open to the public and held in council chambers at the Proctor Area Community Center (PACC) 100 Pionk Drive Proctor\, MN. Visitors should park in the North parking lot and enter Door 6. \nRemote Access\nThe 6:00 p.m. City Council Meeting is available remotely via YouTube https://www.youtube.com/@trac7298/streams. To comment during the public comment period of the meeting call 218-628-6268. Your call will be answered in the order it was received.  Your comments will be broadcast in the council chambers and on YouTube. \nPublic comments may also be submitted in advance of the meeting to cityhall@proctormn.gov up to 3:00 p.m. the day of the meeting with the e-mail title “City Council Meeting.”  All comments are public data
URL:https://proctormn.gov/event/council-meeting-8/
CATEGORIES:Government,Meeting
END:VEVENT
BEGIN:VEVENT
DTSTART;TZID=America/Chicago:20251111T080000
DTEND;TZID=America/Chicago:20251111T163000
DTSTAMP:20260420T012543
CREATED:20230110T215200Z
LAST-MODIFIED:20250328T203420Z
UID:7718-1762848000-1762878600@proctormn.gov
SUMMARY:Veterans Day - Offices Closed
DESCRIPTION:
URL:https://proctormn.gov/event/veterans-day-offices-closed-2/
CATEGORIES:Resident,Visitor
END:VEVENT
BEGIN:VEVENT
DTSTART;TZID=America/Chicago:20251111T180000
DTEND;TZID=America/Chicago:20251111T180000
DTSTAMP:20260420T012543
CREATED:20240102T211104Z
LAST-MODIFIED:20251112T204355Z
UID:8623-1762884000-1762884000@proctormn.gov
SUMMARY:CANCELED  - Proctor Economic Development Authority
DESCRIPTION:
URL:https://proctormn.gov/event/peda-meeting-21/
LOCATION:Proctor Area Community Center/City Hall\, 100 Pionk Drive\, Proctor\, 55810\, United States
CATEGORIES:Government,Meeting
END:VEVENT
BEGIN:VEVENT
DTSTART;VALUE=DATE:20251115
DTEND;VALUE=DATE:20251116
DTSTAMP:20260420T012543
CREATED:20201023T191547Z
LAST-MODIFIED:20250328T203218Z
UID:5121-1763164800-1763251199@proctormn.gov
SUMMARY:Winter Parking Rules Enforced
DESCRIPTION:Winter Parking Ordinance\n  \n  \n  \n 
URL:https://proctormn.gov/event/winter-parking-rules-in-effect/
CATEGORIES:Resident,Visitor
END:VEVENT
BEGIN:VEVENT
DTSTART;TZID=America/Chicago:20251117T170000
DTEND;TZID=America/Chicago:20251117T180000
DTSTAMP:20260420T012543
CREATED:20250328T202221Z
LAST-MODIFIED:20250328T202743Z
UID:9868-1763398800-1763402400@proctormn.gov
SUMMARY:City Council Pre-Agenda Meeting
DESCRIPTION:The 5:00 p.m. pre-agenda meeting is a work session between the City Council and City staff to review the upcoming City Council meeting agenda\, future meeting agendas\, and is a time for the City Council and City staff to have discussions about the agenda items and asking and answering questions. The agenda for the pre-agenda meeting is the same document as the upcoming City Council meeting agenda but does not follow the same format as the City Council meeting. Although pre-agenda meetings are open to the public\, it is not a time for public comment\, as the public can listen to the conversation and ask questions or provide input at the upcoming City Council meeting. Visitors should park in the North parking lot and enter Door 6.
URL:https://proctormn.gov/event/city-council-pre-agenda-meeting-19/
LOCATION:Proctor Area Community Center/City Hall\, 100 Pionk Drive\, Proctor\, 55810\, United States
CATEGORIES:Government,Meeting
END:VEVENT
BEGIN:VEVENT
DTSTART;TZID=America/Chicago:20251117T180000
DTEND;TZID=America/Chicago:20251117T180000
DTSTAMP:20260420T012543
CREATED:20240102T210902Z
LAST-MODIFIED:20250328T202743Z
UID:8619-1763402400-1763402400@proctormn.gov
SUMMARY:City Council
DESCRIPTION:In-Person Access\nThe 6:00 p.m. City Council Meetings are open to the public and held in council chambers at the Proctor Area Community Center (PACC) 100 Pionk Drive Proctor\, MN. Visitors should park in the North parking lot and enter Door 6. \nRemote Access\nThe 6:00 p.m. City Council Meeting is available remotely via YouTube https://www.youtube.com/@trac7298/streams. To comment during the public comment period of the meeting call 218-628-6268. Your call will be answered in the order it was received.  Your comments will be broadcast in the council chambers and on YouTube. \nPublic comments may also be submitted in advance of the meeting to cityhall@proctormn.gov up to 3:00 p.m. the day of the meeting with the e-mail title “City Council Meeting.”  All comments are public data
URL:https://proctormn.gov/event/council-meeting-10/
LOCATION:Proctor Area Community Center/City Hall\, 100 Pionk Drive\, Proctor\, 55810\, United States
CATEGORIES:Government,Meeting
END:VEVENT
BEGIN:VEVENT
DTSTART;TZID=America/Chicago:20251124T170000
DTEND;TZID=America/Chicago:20251124T180000
DTSTAMP:20260420T012543
CREATED:20240102T211022Z
LAST-MODIFIED:20251110T170324Z
UID:8621-1764003600-1764007200@proctormn.gov
SUMMARY:Proctor Utilities Commission
DESCRIPTION:
URL:https://proctormn.gov/event/puc-meeting-date-may-be-changed/
LOCATION:Proctor Area Community Center/City Hall\, 100 Pionk Drive\, Proctor\, 55810\, United States
CATEGORIES:Government,Meeting
END:VEVENT
BEGIN:VEVENT
DTSTART;TZID=America/Chicago:20251124T170000
DTEND;TZID=America/Chicago:20251124T170000
DTSTAMP:20260420T012543
CREATED:20240319T204924Z
LAST-MODIFIED:20250328T203053Z
UID:8842-1764003600-1764003600@proctormn.gov
SUMMARY:Planning & Zoning Commission
DESCRIPTION:
URL:https://proctormn.gov/event/planning-zoning-meeting-2/
LOCATION:Proctor Area Community Center/City Hall\, 100 Pionk Drive\, Proctor\, 55810\, United States
CATEGORIES:Government,Meeting
END:VEVENT
BEGIN:VEVENT
DTSTART;TZID=America/Chicago:20251124T180000
DTEND;TZID=America/Chicago:20251124T180000
DTSTAMP:20260420T012543
CREATED:20251023T205643Z
LAST-MODIFIED:20251023T205848Z
UID:10074-1764007200-1764007200@proctormn.gov
SUMMARY:KINGSBURY CREEK RESTORATION INFORMATION MEETING
DESCRIPTION:https://proctormn.gov/wp-lib/wp-content/uploads/2025/10/Your-paragraph-text-1.mp4
URL:https://proctormn.gov/event/kingsbury-creek-restoration-information-meeting/
LOCATION:Proctor Area Community Center/City Hall\, 100 Pionk Drive\, Proctor\, 55810\, United States
END:VEVENT
BEGIN:VEVENT
DTSTART;TZID=America/Chicago:20251127T080000
DTEND;TZID=America/Chicago:20251127T163000
DTSTAMP:20260420T012543
CREATED:20241127T214715Z
LAST-MODIFIED:20250328T202948Z
UID:9434-1764230400-1764261000@proctormn.gov
SUMMARY:Office Closed for Thanksgiving Holiday
DESCRIPTION:
URL:https://proctormn.gov/event/city-offices-closed-for-thanksgiving-holiday-2/
CATEGORIES:Resident,Visitor
END:VEVENT
BEGIN:VEVENT
DTSTART;TZID=America/Chicago:20251201T170000
DTEND;TZID=America/Chicago:20251201T180000
DTSTAMP:20260420T012543
CREATED:20250328T202307Z
LAST-MODIFIED:20250328T202743Z
UID:9870-1764608400-1764612000@proctormn.gov
SUMMARY:City Council Pre-Agenda Meeting
DESCRIPTION:The 5:00 p.m. pre-agenda meeting is a work session between the City Council and City staff to review the upcoming City Council meeting agenda\, future meeting agendas\, and is a time for the City Council and City staff to have discussions about the agenda items and asking and answering questions. The agenda for the pre-agenda meeting is the same document as the upcoming City Council meeting agenda but does not follow the same format as the City Council meeting. Although pre-agenda meetings are open to the public\, it is not a time for public comment\, as the public can listen to the conversation and ask questions or provide input at the upcoming City Council meeting. Visitors should park in the North parking lot and enter Door 6.
URL:https://proctormn.gov/event/city-council-pre-agenda-meeting-20/
LOCATION:Proctor Area Community Center/City Hall\, 100 Pionk Drive\, Proctor\, 55810\, United States
CATEGORIES:Government,Meeting
END:VEVENT
BEGIN:VEVENT
DTSTART;TZID=America/Chicago:20251201T180000
DTEND;TZID=America/Chicago:20251201T180000
DTSTAMP:20260420T012543
CREATED:20240102T211235Z
LAST-MODIFIED:20250328T202743Z
UID:8627-1764612000-1764612000@proctormn.gov
SUMMARY:City Council
DESCRIPTION:In-Person Access\nThe 6:00 p.m. City Council Meetings are open to the public and held in council chambers at the Proctor Area Community Center (PACC) 100 Pionk Drive Proctor\, MN. Visitors should park in the North parking lot and enter Door 6. \nRemote Access\nThe 6:00 p.m. City Council Meeting is available remotely via YouTube https://www.youtube.com/@trac7298/streams. To comment during the public comment period of the meeting call 218-628-6268. Your call will be answered in the order it was received.  Your comments will be broadcast in the council chambers and on YouTube. \nPublic comments may also be submitted in advance of the meeting to cityhall@proctormn.gov up to 3:00 p.m. the day of the meeting with the e-mail title “City Council Meeting.”  All comments are public data
URL:https://proctormn.gov/event/council-meeting-11/
LOCATION:Proctor Area Community Center/City Hall\, 100 Pionk Drive\, Proctor\, 55810\, United States
CATEGORIES:Government,Meeting
END:VEVENT
BEGIN:VEVENT
DTSTART;TZID=America/Chicago:20251208T160000
DTEND;TZID=America/Chicago:20251208T180000
DTSTAMP:20260420T012543
CREATED:20251205T145138Z
LAST-MODIFIED:20251205T145138Z
UID:10085-1765209600-1765216800@proctormn.gov
SUMMARY:Proctor City Council -- Budget Working Session
DESCRIPTION:
URL:https://proctormn.gov/event/proctor-city-council-budget-working-session/
END:VEVENT
BEGIN:VEVENT
DTSTART;TZID=America/Chicago:20251208T180000
DTEND;TZID=America/Chicago:20251208T180000
DTSTAMP:20260420T012543
CREATED:20250328T211413Z
LAST-MODIFIED:20251208T200050Z
UID:9892-1765216800-1765216800@proctormn.gov
SUMMARY:Proctor Utilities Commission - Changed to 12/16/25 5:30
DESCRIPTION:
URL:https://proctormn.gov/event/proctor-utilities-commission/
LOCATION:Proctor Area Community Center/City Hall\, 100 Pionk Drive\, Proctor\, 55810\, United States
CATEGORIES:Government,Meeting
END:VEVENT
BEGIN:VEVENT
DTSTART;TZID=America/Chicago:20251215T163000
DTEND;TZID=America/Chicago:20251215T173000
DTSTAMP:20260420T012543
CREATED:20251209T165728Z
LAST-MODIFIED:20251209T190610Z
UID:10095-1765816200-1765819800@proctormn.gov
SUMMARY:Liquor Control Committee
DESCRIPTION:
URL:https://proctormn.gov/event/liquor-control-committee/
LOCATION:Proctor Area Community Center/City Hall\, 100 Pionk Drive\, Proctor\, 55810\, United States
END:VEVENT
BEGIN:VEVENT
DTSTART;TZID=America/Chicago:20251215T170000
DTEND;TZID=America/Chicago:20251215T180000
DTSTAMP:20260420T012543
CREATED:20250225T172051Z
LAST-MODIFIED:20250328T202743Z
UID:9750-1765818000-1765821600@proctormn.gov
SUMMARY:City Council Pre-Agenda Meeting
DESCRIPTION:The 5:00 p.m. pre-agenda meeting is a work session between the City Council and City staff to review the upcoming City Council meeting agenda\, future meeting agendas\, and is a time for the City Council and City staff to have discussions about the agenda items and asking and answering questions. The agenda for the pre-agenda meeting is the same document as the upcoming City Council meeting agenda but does not follow the same format as the City Council meeting. Although pre-agenda meetings are open to the public\, it is not a time for public comment\, as the public can listen to the conversation and ask questions or provide input at the upcoming City Council meeting. Visitors should park in the North parking lot and enter Door 6.
URL:https://proctormn.gov/event/city-council-pre-agenda-meeting-3/
LOCATION:Proctor Area Community Center/City Hall\, 100 Pionk Drive\, Proctor\, 55810\, United States
CATEGORIES:Government,Meeting
END:VEVENT
BEGIN:VEVENT
DTSTART;TZID=America/Chicago:20251215T180000
DTEND;TZID=America/Chicago:20251215T180000
DTSTAMP:20260420T012543
CREATED:20240102T211311Z
LAST-MODIFIED:20250328T202743Z
UID:8629-1765821600-1765821600@proctormn.gov
SUMMARY:City Council
DESCRIPTION:In-Person Access\nThe 6:00 p.m. City Council Meetings are open to the public and held in council chambers at the Proctor Area Community Center (PACC) 100 Pionk Drive Proctor\, MN. Visitors should park in the North parking lot and enter Door 6. \nRemote Access\nThe 6:00 p.m. City Council Meeting is available remotely via YouTube https://www.youtube.com/@trac7298/streams. To comment during the public comment period of the meeting call 218-628-6268. Your call will be answered in the order it was received.  Your comments will be broadcast in the council chambers and on YouTube. \nPublic comments may also be submitted in advance of the meeting to cityhall@proctormn.gov up to 3:00 p.m. the day of the meeting with the e-mail title “City Council Meeting.”  All comments are public data \nPublic comments may also be submitted in advance of the meeting via e-mail cityhall@proctormn.gov up to 3:00 p.m. the day of the meeting with the e-mail title “City Council Meeting.”  It is important to note that all comments regarding this meeting are public data.
URL:https://proctormn.gov/event/council-meeting-12/
LOCATION:Proctor Area Community Center/City Hall\, 100 Pionk Drive\, Proctor\, 55810\, United States
CATEGORIES:Government,Meeting
END:VEVENT
BEGIN:VEVENT
DTSTART;TZID=America/Chicago:20251216T173000
DTEND;TZID=America/Chicago:20251216T193000
DTSTAMP:20260420T012543
CREATED:20251208T200140Z
LAST-MODIFIED:20251208T200140Z
UID:10093-1765906200-1765913400@proctormn.gov
SUMMARY:Proctor Utilities Commission - 5:30
DESCRIPTION:
URL:https://proctormn.gov/event/proctor-utilities-commission-530/
LOCATION:Proctor Area Community Center/City Hall\, 100 Pionk Drive\, Proctor\, 55810\, United States
CATEGORIES:Government,Meeting
END:VEVENT
BEGIN:VEVENT
DTSTART;TZID=America/Chicago:20251222T163000
DTEND;TZID=America/Chicago:20251222T163000
DTSTAMP:20260420T012543
CREATED:20251217T153356Z
LAST-MODIFIED:20251217T154109Z
UID:10097-1766421000-1766421000@proctormn.gov
SUMMARY:City Council Special Meeting. Purpose:  2026 Budget
DESCRIPTION:
URL:https://proctormn.gov/event/city-council-special-meeting/
LOCATION:Proctor Area Community Center/City Hall\, 100 Pionk Drive\, Proctor\, 55810\, United States
END:VEVENT
BEGIN:VEVENT
DTSTART;VALUE=DATE:20251224
DTEND;VALUE=DATE:20251225
DTSTAMP:20260420T012543
CREATED:20251218T195525Z
LAST-MODIFIED:20251218T195740Z
UID:10111-1766534400-1766620799@proctormn.gov
SUMMARY:Offices Closed - Holiday
DESCRIPTION:
URL:https://proctormn.gov/event/closed-holiday/
END:VEVENT
BEGIN:VEVENT
DTSTART;VALUE=DATE:20251225
DTEND;VALUE=DATE:20251226
DTSTAMP:20260420T012543
CREATED:20251218T195549Z
LAST-MODIFIED:20251218T195719Z
UID:10113-1766620800-1766707199@proctormn.gov
SUMMARY:Offices Closed - Holiday
DESCRIPTION:
URL:https://proctormn.gov/event/closed-holiday-2/
END:VEVENT
BEGIN:VEVENT
DTSTART;TZID=America/Chicago:20251229T170000
DTEND;TZID=America/Chicago:20251229T170000
DTSTAMP:20260420T012543
CREATED:20251223T224131Z
LAST-MODIFIED:20251223T224140Z
UID:10153-1767027600-1767027600@proctormn.gov
SUMMARY:PUC Special Meeting
DESCRIPTION:Notice is hereby given that the Proctor Public Utilities Commission shall hold a special meeting on Monday\, December 29\, 2025 at 5:00 PM in the Council Chambers at Proctor Community Center ~ 100 Pionk Drive\, for approval of the 2026 PUC Budget and year-end business.
URL:https://proctormn.gov/event/puc-special-meeting-2/
LOCATION:Proctor Area Community Center/City Hall\, 100 Pionk Drive\, Proctor\, 55810\, United States
CATEGORIES:Meeting
END:VEVENT
BEGIN:VEVENT
DTSTART;VALUE=DATE:20251231
DTEND;VALUE=DATE:20260101
DTSTAMP:20260420T012543
CREATED:20251218T195611Z
LAST-MODIFIED:20251230T150752Z
UID:10115-1767139200-1767225599@proctormn.gov
SUMMARY:Offices Open Regular Hours
DESCRIPTION:
URL:https://proctormn.gov/event/closed-holiday-3/
END:VEVENT
BEGIN:VEVENT
DTSTART;VALUE=DATE:20260101
DTEND;VALUE=DATE:20260102
DTSTAMP:20260420T012543
CREATED:20251218T195637Z
LAST-MODIFIED:20251218T201040Z
UID:10117-1767225600-1767311999@proctormn.gov
SUMMARY:Offices Closed - Holiday
DESCRIPTION:
URL:https://proctormn.gov/event/offices-closed-holiday/
END:VEVENT
END:VCALENDAR