BEGIN:VCALENDAR
VERSION:2.0
PRODID:-//City of Proctor, MN - ECPv6.10.1.1//NONSGML v1.0//EN
CALSCALE:GREGORIAN
METHOD:PUBLISH
X-WR-CALNAME:City of Proctor, MN
X-ORIGINAL-URL:https://proctormn.gov
X-WR-CALDESC:Events for City of Proctor, MN
REFRESH-INTERVAL;VALUE=DURATION:PT1H
X-Robots-Tag:noindex
X-PUBLISHED-TTL:PT1H
BEGIN:VTIMEZONE
TZID:America/Chicago
BEGIN:DAYLIGHT
TZOFFSETFROM:-0600
TZOFFSETTO:-0500
TZNAME:CDT
DTSTART:20260308T080000
END:DAYLIGHT
BEGIN:STANDARD
TZOFFSETFROM:-0500
TZOFFSETTO:-0600
TZNAME:CST
DTSTART:20261101T070000
END:STANDARD
END:VTIMEZONE
BEGIN:VEVENT
DTSTART;VALUE=DATE:20260408
DTEND;VALUE=DATE:20260516
DTSTAMP:20260421T040415
CREATED:20260408T173618Z
LAST-MODIFIED:20260408T173618Z
UID:10533-1775606400-1778889599@proctormn.gov
SUMMARY:2026 Brush Pick Up - Get on the List!!
DESCRIPTION:Get on the list by Friday May 15\nPlace brush at the edge of alley or street\nMaximum one dump truck load per address\nDO NOT BAG – Bags will NOT be picked up\nDo not cut brush and branches into small pieces or put in bags\nNo leaves\, pine needles or garden waste\nPickup will begin Monday\, May 18
URL:https://proctormn.gov/event/2026-brush-pick-up-get-on-the-list/
END:VEVENT
BEGIN:VEVENT
DTSTART;VALUE=DATE:20260419
DTEND;VALUE=DATE:20260426
DTSTAMP:20260421T040415
CREATED:20260312T172246Z
LAST-MODIFIED:20260312T172246Z
UID:10415-1776556800-1777161599@proctormn.gov
SUMMARY:National Volunteer Week
DESCRIPTION:National Volunteer Week is celebrated annually during the third week of April and this year it will be observed from April 19 to 25. This week-long celebration is about placing a spotlight on inspiring figures whose invaluable seeds of kindness through volunteering are bettering the community and our world in general. This significant celebration which was established in 1974 provides the perfect opportunity to say thank you. It also challenges us to do better and look for ways to be active participants\, joining hands to impact our local communities and calling for more support.
URL:https://proctormn.gov/event/national-volunteer-week/
END:VEVENT
BEGIN:VEVENT
DTSTART;VALUE=DATE:20260422
DTEND;VALUE=DATE:20260423
DTSTAMP:20260421T040415
CREATED:20260312T172714Z
LAST-MODIFIED:20260312T172714Z
UID:10417-1776816000-1776902399@proctormn.gov
SUMMARY:Administrative Professionals' Day
DESCRIPTION:National Administrative Professionals’ Day\, also known as Secretaries Day or Admin Day\, recognizes the professionals who keep an office running smoothly every day. Celebrate these professionals on the Wednesday of the last full week in April of each year. The day recognizes the work of secretaries\, administrative assistants\, receptionists\, and other administrative support professionals. Central to ALL city functions\, these professionals keep the City of Proctor’s offices organized and efficient.
URL:https://proctormn.gov/event/administrative-professionals-day/
END:VEVENT
BEGIN:VEVENT
DTSTART;TZID=America/Chicago:20260427T170000
DTEND;TZID=America/Chicago:20260427T170000
DTSTAMP:20260421T040415
CREATED:20260302T160455Z
LAST-MODIFIED:20260302T160455Z
UID:10299-1777309200-1777309200@proctormn.gov
SUMMARY:Planning & Zoning Commission Meeting
DESCRIPTION:
URL:https://proctormn.gov/event/planning-zoning-commission-meeting-3/
LOCATION:Proctor Area Community Center/City Hall\, 100 Pionk Drive\, Proctor\, 55810\, United States
CATEGORIES:Meeting
END:VEVENT
END:VCALENDAR