BEGIN:VCALENDAR
VERSION:2.0
PRODID:-//City of Proctor, MN - ECPv6.10.1.1//NONSGML v1.0//EN
CALSCALE:GREGORIAN
METHOD:PUBLISH
X-WR-CALNAME:City of Proctor, MN
X-ORIGINAL-URL:https://proctormn.gov
X-WR-CALDESC:Events for City of Proctor, MN
REFRESH-INTERVAL;VALUE=DURATION:PT1H
X-Robots-Tag:noindex
X-PUBLISHED-TTL:PT1H
BEGIN:VTIMEZONE
TZID:America/Chicago
BEGIN:DAYLIGHT
TZOFFSETFROM:-0600
TZOFFSETTO:-0500
TZNAME:CDT
DTSTART:20260308T080000
END:DAYLIGHT
BEGIN:STANDARD
TZOFFSETFROM:-0500
TZOFFSETTO:-0600
TZNAME:CST
DTSTART:20261101T070000
END:STANDARD
END:VTIMEZONE
BEGIN:VEVENT
DTSTART;VALUE=DATE:20260408
DTEND;VALUE=DATE:20260516
DTSTAMP:20260421T122416
CREATED:20260408T173618Z
LAST-MODIFIED:20260408T173618Z
UID:10533-1775606400-1778889599@proctormn.gov
SUMMARY:2026 Brush Pick Up - Get on the List!!
DESCRIPTION:Get on the list by Friday May 15\nPlace brush at the edge of alley or street\nMaximum one dump truck load per address\nDO NOT BAG – Bags will NOT be picked up\nDo not cut brush and branches into small pieces or put in bags\nNo leaves\, pine needles or garden waste\nPickup will begin Monday\, May 18
URL:https://proctormn.gov/event/2026-brush-pick-up-get-on-the-list/
END:VEVENT
BEGIN:VEVENT
DTSTART;VALUE=DATE:20260503
DTEND;VALUE=DATE:20260510
DTSTAMP:20260421T122416
CREATED:20260312T170557Z
LAST-MODIFIED:20260312T170557Z
UID:10406-1777766400-1778371199@proctormn.gov
SUMMARY:Drinking Water Week
DESCRIPTION:This week is #DrinkingWaterWeek\, an opportunity to learn about how drinking water is treated\, tested and delivered\, while recognizing the people responsible for keeping those systems running every day. Throughout the week\, we’ll highlight the behind-the-scenes work that supports safe\, reliable drinking water for our community.
URL:https://proctormn.gov/event/drinking-water-week/
END:VEVENT
BEGIN:VEVENT
DTSTART;VALUE=DATE:20260504
DTEND;VALUE=DATE:20260509
DTSTAMP:20260421T122416
CREATED:20260312T165941Z
LAST-MODIFIED:20260312T165941Z
UID:10402-1777852800-1778284799@proctormn.gov
SUMMARY:National EMS Week
DESCRIPTION:Each year during the third full week in May\, the country recognizes National EMS Week and honors all the first responders and medical professionals who dedicate their lives to saving ours. \nAcross the nation\, communities and medical professionals will honor the contributions of EMS practitioners. From rural communities with little to no local health care services to major cities teeming with humanity\, dedicated first responders provide immediate care during a health crisis. Whether there is an accident or an illness\, these trained professionals work around the clock to quickly ensure care is available. Keeping up with the latest training ensures they know the most effective life-saving emergency treatments. EMS practitioners are professionals of the highest caliber.
URL:https://proctormn.gov/event/national-ems-week/
END:VEVENT
END:VCALENDAR