BEGIN:VCALENDAR
VERSION:2.0
PRODID:-//City of Proctor, MN - ECPv6.10.1.1//NONSGML v1.0//EN
CALSCALE:GREGORIAN
METHOD:PUBLISH
X-WR-CALNAME:City of Proctor, MN
X-ORIGINAL-URL:https://proctormn.gov
X-WR-CALDESC:Events for City of Proctor, MN
REFRESH-INTERVAL;VALUE=DURATION:PT1H
X-Robots-Tag:noindex
X-PUBLISHED-TTL:PT1H
BEGIN:VTIMEZONE
TZID:America/Chicago
BEGIN:DAYLIGHT
TZOFFSETFROM:-0600
TZOFFSETTO:-0500
TZNAME:CDT
DTSTART:20260308T080000
END:DAYLIGHT
BEGIN:STANDARD
TZOFFSETFROM:-0500
TZOFFSETTO:-0600
TZNAME:CST
DTSTART:20261101T070000
END:STANDARD
END:VTIMEZONE
BEGIN:VEVENT
DTSTART;TZID=America/Chicago:20260319T170000
DTEND;TZID=America/Chicago:20260319T170000
DTSTAMP:20260419T130611
CREATED:20260312T165013Z
LAST-MODIFIED:20260312T165339Z
UID:10397-1773939600-1773939600@proctormn.gov
SUMMARY:Proctor Utility Commission Rescheduled Regular Meeting 5:00 PM
DESCRIPTION:This meeting is the rescheduling of the Monday\, March 9th regular meeting cancellation. Meeting will be held in the conference room.
URL:https://proctormn.gov/event/proctor-utility-commission-rescheduled-regular-meeting-500-pm/
LOCATION:Proctor Area Community Center/City Hall\, 100 Pionk Drive\, Proctor\, 55810\, United States
CATEGORIES:Meeting
END:VEVENT
END:VCALENDAR