BEGIN:VCALENDAR
VERSION:2.0
PRODID:-//City of Proctor, MN - ECPv6.10.1.1//NONSGML v1.0//EN
CALSCALE:GREGORIAN
METHOD:PUBLISH
X-WR-CALNAME:City of Proctor, MN
X-ORIGINAL-URL:https://proctormn.gov
X-WR-CALDESC:Events for City of Proctor, MN
REFRESH-INTERVAL;VALUE=DURATION:PT1H
X-Robots-Tag:noindex
X-PUBLISHED-TTL:PT1H
BEGIN:VTIMEZONE
TZID:America/Chicago
BEGIN:DAYLIGHT
TZOFFSETFROM:-0600
TZOFFSETTO:-0500
TZNAME:CDT
DTSTART:20250309T080000
END:DAYLIGHT
BEGIN:STANDARD
TZOFFSETFROM:-0500
TZOFFSETTO:-0600
TZNAME:CST
DTSTART:20251102T070000
END:STANDARD
END:VTIMEZONE
BEGIN:VEVENT
DTSTART;TZID=America/Chicago:20251007T140000
DTEND;TZID=America/Chicago:20251007T153000
DTSTAMP:20260420T005334
CREATED:20250904T192254Z
LAST-MODIFIED:20250904T192254Z
UID:10032-1759845600-1759851000@proctormn.gov
SUMMARY:Special City Council Meeting
DESCRIPTION:Proctor City Council members and staff will be present and participating in the State of Minnesota House of Representatives Capitoal Investment Committee tour on Tuesday\, October 7\, 2025 2:00 PM at Aspirus St. Luke Sports & Event Center 704 Kirkus Street Proctor MN 55810
URL:https://proctormn.gov/event/special-city-council-meeting/
LOCATION:Aspirus St. Luke’s Sports & Event Center\, 704 Kirkus St.\, Proctor\, MN\, 55840\, United States
END:VEVENT
END:VCALENDAR