BEGIN:VCALENDAR
VERSION:2.0
PRODID:-//City of Proctor, MN - ECPv6.10.1.1//NONSGML v1.0//EN
CALSCALE:GREGORIAN
METHOD:PUBLISH
X-WR-CALNAME:City of Proctor, MN
X-ORIGINAL-URL:https://proctormn.gov
X-WR-CALDESC:Events for City of Proctor, MN
REFRESH-INTERVAL;VALUE=DURATION:PT1H
X-Robots-Tag:noindex
X-PUBLISHED-TTL:PT1H
BEGIN:VTIMEZONE
TZID:America/Chicago
BEGIN:DAYLIGHT
TZOFFSETFROM:-0600
TZOFFSETTO:-0500
TZNAME:CDT
DTSTART:20250309T080000
END:DAYLIGHT
BEGIN:STANDARD
TZOFFSETFROM:-0500
TZOFFSETTO:-0600
TZNAME:CST
DTSTART:20251102T070000
END:STANDARD
END:VTIMEZONE
BEGIN:VEVENT
DTSTART;TZID=America/Chicago:20250728T150000
DTEND;TZID=America/Chicago:20250728T163000
DTSTAMP:20260422T190629
CREATED:20241127T222926Z
LAST-MODIFIED:20250328T202744Z
UID:9445-1753714800-1753720200@proctormn.gov
SUMMARY:Tourism Committee
DESCRIPTION:
URL:https://proctormn.gov/event/tourism-committee-2/
CATEGORIES:Government,Meeting
END:VEVENT
BEGIN:VEVENT
DTSTART;TZID=America/Chicago:20250728T170000
DTEND;TZID=America/Chicago:20250728T170000
DTSTAMP:20260422T190629
CREATED:20240102T204935Z
LAST-MODIFIED:20250328T212155Z
UID:8569-1753722000-1753722000@proctormn.gov
SUMMARY:Planning & Zoning Commission
DESCRIPTION:
URL:https://proctormn.gov/event/p-z-meeting-5/
LOCATION:Proctor Area Community Center/City Hall\, 100 Pionk Drive\, Proctor\, 55810\, United States
CATEGORIES:Government,Meeting
END:VEVENT
END:VCALENDAR