BEGIN:VCALENDAR
VERSION:2.0
PRODID:-//City of Proctor, MN - ECPv6.10.1.1//NONSGML v1.0//EN
CALSCALE:GREGORIAN
METHOD:PUBLISH
X-WR-CALNAME:City of Proctor, MN
X-ORIGINAL-URL:https://proctormn.gov
X-WR-CALDESC:Events for City of Proctor, MN
REFRESH-INTERVAL;VALUE=DURATION:PT1H
X-Robots-Tag:noindex
X-PUBLISHED-TTL:PT1H
BEGIN:VTIMEZONE
TZID:America/Chicago
BEGIN:DAYLIGHT
TZOFFSETFROM:-0600
TZOFFSETTO:-0500
TZNAME:CDT
DTSTART:20250309T080000
END:DAYLIGHT
BEGIN:STANDARD
TZOFFSETFROM:-0500
TZOFFSETTO:-0600
TZNAME:CST
DTSTART:20251102T070000
END:STANDARD
END:VTIMEZONE
BEGIN:VEVENT
DTSTART;TZID=America/Chicago:20250409T080000
DTEND;TZID=America/Chicago:20250516T163000
DTSTAMP:20260422T230715
CREATED:20250409T194035Z
LAST-MODIFIED:20250409T205619Z
UID:9934-1744185600-1747413000@proctormn.gov
SUMMARY:Annual Brush Pick Up List
DESCRIPTION:CLICK HERE FOR THE EASY-TO-USE ONLINE FORM! \nLink and sign up will expire May 16\, 2025.
URL:https://proctormn.gov/event/annual-brush-pick-up-list/
END:VEVENT
BEGIN:VEVENT
DTSTART;TZID=America/Chicago:20250506T100000
DTEND;TZID=America/Chicago:20250506T110000
DTSTAMP:20260422T230715
CREATED:20250328T185936Z
LAST-MODIFIED:20250328T202830Z
UID:9815-1746525600-1746529200@proctormn.gov
SUMMARY:2025 Local Board of Review and Equalization Meeting
DESCRIPTION:Important Information Regarding Assessment and Classification of Property \nThis may affect your 2026 property tax payments. \nNotice is hereby given that the Board of Appeal and Equalization of the City of Proctor shall meet on Tuesday\, May 6\, 2025\, 10:00 am – 11:00 am\, at Proctor Area Community Center 100 Pionk Drive Proctor\, MN. The purpose of this meeting is to determine whether taxable property in the jurisdiction has been properly valued and classified by the assessor\, and to determine whether corrections need to be made. If you believe the value or classification of your property is incorrect\, please contact your assessor’s office to discuss your concerns. If you are still not satisfied with the valuation or classification after discussing it with your assessor\, you may appear before the local board of appeal and equalization. The board shall review the valuation\, classification\, or both if necessary\, and shall correct it as needed. Generally\, an appearance before your local board of appeal and equalization is required by law before an appeal can be taken to your county board of appeal and equalization.
URL:https://proctormn.gov/event/2025-local-board-of-review-and-equalization-meeting/
LOCATION:Proctor Area Community Center/City Hall\, 100 Pionk Drive\, Proctor\, 55810\, United States
CATEGORIES:Government,Meeting
END:VEVENT
END:VCALENDAR